BEGIN:VCALENDAR
VERSION:2.0
PRODID:-//ChamberMaster//Event Calendar 2.0//EN
METHOD:PUBLISH
X-PUBLISHED-TTL:P3D
REFRESH-INTERVAL:P3D
CALSCALE:GREGORIAN
BEGIN:VEVENT
DTSTART:20200617T170000Z
DTEND:20200617T180000Z
X-MICROSOFT-CDO-ALLDAYEVENT:FALSE
SUMMARY:Children’s Business Group Networking Meeting
DESCRIPTION:Children's Family Business Networking Meeting\n			\n		\n	\n\n\n\n\n\n	\n		\n			\n			 \n\n			\n			 \n\n			 \n\n			Register in advance for this meeting:\n\n			https://us02web.zoom.us/meeting/register/tZcode6ppzgqG9aGmuwSpw4wQvDvb6mGp5pq \n\n			 \n\n			After registering\, you will receive a confirmation email containing information about joining the meeting.meet
X-ALT-DESC;FMTTYPE=text/html:<div class="gl-contains-text" style="color: rgb(0\, 0\, 0)\; font-family: &quot\;Times New Roman&quot\;\; font-size: medium\;">\n<table border="0" cellpadding="0" cellspacing="0" style="border-collapse: collapse\; table-layout: fixed\; min-width: 100%\;" width="100%">\n	<tbody>\n		<tr>\n			<td align="left" class="editor-text feature-heading-text" style="-webkit-font-smoothing: antialiased\; font-family: Helvetica\, Arial\, sans-serif\; font-size: 18px\; color: rgb(255\, 255\, 255)\; display: block\; overflow-wrap: break-word\; line-height: 1.2\; font-weight: bold\; padding: 10px 20px 10px 10px\;" valign="top">\n			<div class="text-container galileo-ap-content-editor"><span style="color: rgb(31\, 73\, 125)\; font-family: Calibri\, Helvetica\, Arial\, sans-serif\;">Children&#39\;s Family Business Networking Meeting</span></div>\n			</td>\n		</tr>\n	</tbody>\n</table>\n</div>\n\n<div class="gl-contains-text" style="color: rgb(0\, 0\, 0)\; font-family: &quot\;Times New Roman&quot\;\; font-size: medium\;">\n<table border="0" cellpadding="0" cellspacing="0" style="border-collapse: collapse\; table-layout: fixed\; min-width: 100%\;" width="100%">\n	<tbody>\n		<tr>\n			<td align="left" class="editor-text feature-text" style="-webkit-font-smoothing: antialiased\; font-family: Helvetica\, Arial\, sans-serif\; font-size: 16px\; color: rgb(255\, 255\, 255)\; display: block\; overflow-wrap: break-word\; line-height: 1.2\; padding: 10px 20px 10px 10px\;" valign="top">\n			<div>&nbsp\;</div>\n\n			<div class="text-container galileo-ap-content-editor">\n			<div>&nbsp\;</div>\n\n			<div>&nbsp\;</div>\n\n			<div><span style="color: rgb(41\, 75\, 147)\; font-family: Calibri\, Helvetica\, Arial\, sans-serif\;">Register in advance for this meeting:</span></div>\n\n			<div><a href="https://us02web.zoom.us/meeting/register/tZcode6ppzgqG9aGmuwSpw4wQvDvb6mGp5pq" rel="noopener noreferrer" style="color: rgb(41\, 75\, 147)\; font-family: Calibri\, Helvetica\, Arial\, sans-serif\;" target="_blank">https://us02web.zoom.us/meeting/register/tZcode6ppzgqG9aGmuwSpw4wQvDvb6mGp5pq&nbsp\;</a></div>\n\n			<div>&nbsp\;</div>\n\n			<div><span style="color: rgb(41\, 75\, 147)\; font-family: Calibri\, Helvetica\, Arial\, sans-serif\;">After registering\, you will receive a confirmation email containing information about joining the meeting.</span>meet</div>\n			</div>\n			</td>\n		</tr>\n	</tbody>\n</table>\n</div>\n
LOCATION:
UID:e.434.10387
SEQUENCE:3
DTSTAMP:20260423T023648Z
URL:https://business.glenviewchamber.com/events/details/children-s-business-group-networking-meeting-10387
END:VEVENT

END:VCALENDAR
