BEGIN:VCALENDAR
VERSION:2.0
PRODID:-//ChamberMaster//Event Calendar 2.0//EN
METHOD:PUBLISH
X-PUBLISHED-TTL:P3D
REFRESH-INTERVAL:P3D
CALSCALE:GREGORIAN
BEGIN:VEVENT
DTSTART:20210120T180000Z
DTEND:20210120T190000Z
X-MICROSOFT-CDO-ALLDAYEVENT:FALSE
SUMMARY:Children’s Business Group Networking Meeting
DESCRIPTION:Imagine discovering a business\, nonprofit\, or venue that dovetails with a great new idea you've had simmering for a while. Imagine locating a service that will help your young clients thrive. Imagine meeting professionals who care about what you care about\, but from a slightly different angle. That's what we want the network to bring to our members.  Plus you'll be getting the newest info from experts on critical topics like: pivoting your business in the time of COVID-19\, the impact of college admission pressures\, the warning signs of sleep deficits\, how to hire and work with Generation Z\, and other hot topics.
X-ALT-DESC;FMTTYPE=text/html:<span style="color: rgb(76\, 76\, 83)\; font-family: AsapRegular\, Arial\, sans-serif\; font-size: 14px\;">Imagine discovering a business\, nonprofit\, or venue that dovetails with a great new idea you&rsquo\;ve had simmering for a while. Imagine locating a service that will help your young clients thrive. Imagine meeting professionals who care about what you care about\, but from a slightly different angle. That&rsquo\;s what we want the network to bring to our members.&nbsp\; Plus you&rsquo\;ll be getting the newest info from experts on critical topics like: pivoting your business in the time of COVID-19\, the impact of college admission pressures\, the warning signs of sleep deficits\, how to hire and work with Generation Z\, and other hot topics.&nbsp\;</span>
LOCATION:Register in advance for this meeting: https://us02web.zoom.us/meeting/register/tZYtcuiprzkuHddwEb3fp7VuFanSqi7fVvFz
UID:e.434.10520
SEQUENCE:3
DTSTAMP:20260422T155450Z
URL:https://business.glenviewchamber.com/events/details/children-s-business-group-networking-meeting-10520
END:VEVENT

END:VCALENDAR
