BEGIN:VCALENDAR
VERSION:2.0
PRODID:-//ChamberMaster//Event Calendar 2.0//EN
METHOD:PUBLISH
X-PUBLISHED-TTL:P3D
REFRESH-INTERVAL:P3D
CALSCALE:GREGORIAN
BEGIN:VEVENT
DTSTART:20220407T170000Z
DTEND:20220407T180000Z
X-MICROSOFT-CDO-ALLDAYEVENT:FALSE
SUMMARY:Children's Family Business Networking
DESCRIPTION:Save the date for our first 2022 in person Children's Family Business Networking on April 7 from 12-1pm at Glenview Public Library.\n\nBYO brown bag lunch and network with like minded professionals\, hear about Chamber plans for Summer Fest on 6/25 and other happenings.
X-ALT-DESC;FMTTYPE=text/html:Save the date for our first 2022 in person Children&rsquo\;s Family Business Networking on April 7 from 12-1pm at Glenview Public Library.<br />\n<span style="font-family:calibri\,sans-serif\;"><span style="font-size:11.0pt\;">BYO brown bag lunch and network with like minded professionals\, hear about Chamber plans for Summer Fest on 6/25 and other happenings.&nbsp\;</span></span>
LOCATION:Glenview Public Library Multipurpose Room 1930 Glenview Road
UID:e.434.10597
SEQUENCE:3
DTSTAMP:20260421T192404Z
URL:https://business.glenviewchamber.com/events/details/children-s-family-business-networking-10597
END:VEVENT

END:VCALENDAR
