BEGIN:VCALENDAR
VERSION:2.0
PRODID:-//ChamberMaster//Event Calendar 2.0//EN
METHOD:PUBLISH
X-PUBLISHED-TTL:P3D
REFRESH-INTERVAL:P3D
CALSCALE:GREGORIAN
BEGIN:VEVENT
DTSTART:20240228T180000Z
DTEND:20240228T190000Z
X-MICROSOFT-CDO-ALLDAYEVENT:FALSE
SUMMARY:Children's Family Business Networking
DESCRIPTION:Join the Children's Family Business Network for their first meeting of 2024! It is a great opportunity for businesses and organizations that are focused on opportunities for children and families in and around Glenview to meet and connect. Laura Horwitz of Jovie had this to say of her experience "Last year when my childcare business was winding down our tutoring services\, I met Billy with Club Z tutoring through the Children's Family Business Network. After connecting with him at the meeting and getting to know him and his business\, I was able to send families his way\, and still do. There are other stories just like this that have come out of this group and we want to continue facilitating those relationships. We have a great community and making connections is a way to make us all stronger."
X-ALT-DESC;FMTTYPE=text/html:<div class="xdj266r x11i5rnm xat24cr x1mh8g0r x1vvkbs x126k92a" style="margin: 0px\; overflow-wrap: break-word\; white-space-collapse: preserve\; font-family: &quot\;Segoe UI Historic&quot\;\, &quot\;Segoe UI&quot\;\, Helvetica\, Arial\, sans-serif\; color: rgb(5\, 5\, 5)\; font-size: 15px\;">\n<div dir="auto" style="font-family: inherit\;">Join the Children&#39\;s Family Business Network for their first meeting of 2024! It is a great opportunity for businesses and organizations that are focused on opportunities for children and families in and around Glenview to meet and connect. Laura Horwitz of Jovie had this to say of her experience &ldquo\;Last year when my childcare business was winding down our tutoring services\, I met Billy with Club Z tutoring through the <span style="color: rgb(5\, 5\, 5)\; font-family: &quot\;Segoe UI Historic&quot\;\, &quot\;Segoe UI&quot\;\, Helvetica\, Arial\, sans-serif\; font-size: 15px\; white-space-collapse: preserve\;">Children&#39\;s Family</span> Business Network. After connecting with him at the meeting and getting to know him and his business\, I was able to send families his way\, and still do. There are other stories just like this that have come out of this group and we want to continue facilitating those relationships. We have a great community and making connections is a way to make us all stronger.&rdquo\;</div>\n</div>\n\n<div class="x11i5rnm xat24cr x1mh8g0r x1vvkbs xtlvy1s x126k92a" style="margin: 0.5em 0px 0px\; overflow-wrap: break-word\; white-space-collapse: preserve\; font-family: &quot\;Segoe UI Historic&quot\;\, &quot\;Segoe UI&quot\;\, Helvetica\, Arial\, sans-serif\; color: rgb(5\, 5\, 5)\; font-size: 15px\;">\n<div dir="auto" style="font-family: inherit\;">&nbsp\;</div>\n</div>\n
LOCATION:Kohl Children's Museum 2100 Patriot Blvd. Glenview Check in with the front desk to be directed to the conference room on the 2nd floor.
UID:e.434.10912
SEQUENCE:3
DTSTAMP:20260420T112811Z
URL:https://business.glenviewchamber.com/events/details/children-s-family-business-networking-10912
END:VEVENT

END:VCALENDAR
