BEGIN:VCALENDAR
VERSION:2.0
PRODID:-//ChamberMaster//Event Calendar 2.0//EN
METHOD:PUBLISH
X-PUBLISHED-TTL:P3D
REFRESH-INTERVAL:P3D
CALSCALE:GREGORIAN
BEGIN:VEVENT
DTSTART:20230815T130000Z
DTEND:20230815T140000Z
X-MICROSOFT-CDO-ALLDAYEVENT:FALSE
SUMMARY:Coffee & Chat: Situational Awareness
DESCRIPTION:Presented by the Glenview Police Department\, come learn about employee safety\, managing active threats\, retail theft suspicion\, and more ways to keep you and your employees safe.
X-ALT-DESC;FMTTYPE=text/html:Presented by the Glenview Police Department\, come learn about employee safety\, managing active threats\, retail theft suspicion\, and more ways to keep you and your employees safe.
LOCATION:Village Hall- 2500 E. Lake Ave. Glenview\, IL
UID:e.434.10767
SEQUENCE:3
DTSTAMP:20260420T200833Z
URL:https://business.glenviewchamber.com/events/details/coffee-chat-situational-awareness-10767
END:VEVENT

END:VCALENDAR
