BEGIN:VCALENDAR
VERSION:2.0
PRODID:-//ChamberMaster//Event Calendar 2.0//EN
METHOD:PUBLISH
X-PUBLISHED-TTL:P3D
REFRESH-INTERVAL:P3D
CALSCALE:GREGORIAN
BEGIN:VEVENT
DTSTART:20230831T000000Z
DTEND:20230831T010000Z
X-MICROSOFT-CDO-ALLDAYEVENT:FALSE
SUMMARY:Common Hand Disorders
DESCRIPTION:Many hand conditions can develop from injury\, disease\, and gradual degeneration. If you are experiencing pain\, it could be due to several common hand disorders. Learn about the symptoms\, causes and treatment options available for hand challenges from Dr. Craig Phillips at IBJI.
X-ALT-DESC;FMTTYPE=text/html:Many hand conditions can develop from injury\, disease\, and gradual degeneration. If you are experiencing pain\, it could be due to several common hand disorders. Learn about the symptoms\, causes and treatment options available for hand challenges from Dr. Craig Phillips at IBJI.
LOCATION:Online-Must be registered
UID:e.434.10763
SEQUENCE:3
DTSTAMP:20260421T042234Z
URL:https://business.glenviewchamber.com/events/details/common-hand-disorders-10763
END:VEVENT

END:VCALENDAR
