BEGIN:VCALENDAR
VERSION:2.0
PRODID:-//ChamberMaster//Event Calendar 2.0//EN
METHOD:PUBLISH
X-PUBLISHED-TTL:P3D
REFRESH-INTERVAL:P3D
CALSCALE:GREGORIAN
BEGIN:VEVENT
DTSTART:20240310T180000Z
DTEND:20240310T193000Z
X-MICROSOFT-CDO-ALLDAYEVENT:FALSE
SUMMARY:Community Giveback: Fleece For Fur Babies
DESCRIPTION:Come to the Y to make tie-fleece blankets for animals at local shelters. Easy volunteer project for the whole family. The NSYMCA Social Responsibility Committee will be collecting pet supplies and fleece material to benefit Wright Way Rescue\, Orphans of the Storm and Heartland Animal Shelter. Donated items needed for the Animal Shelters will be accepted throughout the month of February and can be dropped off at the front desk of the NSYMCA. To sign up and see a list of donation items\, follow the link.
X-ALT-DESC;FMTTYPE=text/html:Come to the Y to make tie-fleece blankets for animals at local shelters. Easy volunteer project for the whole family. The NSYMCA Social Responsibility Committee will be collecting pet supplies and fleece material to benefit Wright Way Rescue\, Orphans of the Storm and Heartland Animal Shelter. Donated items needed for the Animal Shelters will be accepted throughout the month of February and can be dropped off at the front desk of the NSYMCA. To sign up and see a list of donation items\, follow the link.
LOCATION:North Suburban YMCA 2705 Techny Rd. Northbrook. IL 60062
UID:e.434.10899
SEQUENCE:3
DTSTAMP:20260420T132132Z
URL:https://business.glenviewchamber.com/events/details/community-giveback-fleece-for-fur-babies-10899
END:VEVENT

END:VCALENDAR
