BEGIN:VCALENDAR
VERSION:2.0
PRODID:-//ChamberMaster//Event Calendar 2.0//EN
METHOD:PUBLISH
X-PUBLISHED-TTL:P3D
REFRESH-INTERVAL:P3D
CALSCALE:GREGORIAN
BEGIN:VEVENT
DTSTART:20240426T230000Z
DTEND:20240427T040000Z
X-MICROSOFT-CDO-ALLDAYEVENT:FALSE
SUMMARY:Community Strong Fundraiser: Dinner and Casino Night
DESCRIPTION:Help us raise charitable dollars to support our mission work to build a stronger community. There will be an open bar\, casino\, live music\, silent & live auctions\, and a private seated dinner. Cocktail Attire. FREE Casino Entertainment for all! Become a Sponsor: https://www.nsymca.org/csdinner24-sponsorships
X-ALT-DESC;FMTTYPE=text/html:Help us raise charitable dollars to support our mission work to build a stronger community. There will be an open bar\, casino\, live music\, silent &amp\; live auctions\, and a private seated dinner. Cocktail Attire. FREE Casino Entertainment for all! Become a Sponsor: https://www.nsymca.org/csdinner24-sponsorships
LOCATION:LOFT 21\, 1501 N Milwaukee Ave.\, Lincolnshire\, IL 60069
UID:e.434.10919
SEQUENCE:3
DTSTAMP:20260420T132204Z
URL:https://business.glenviewchamber.com/events/details/community-strong-fundraiser-dinner-and-casino-night-10919
END:VEVENT

END:VCALENDAR
