BEGIN:VCALENDAR
VERSION:2.0
PRODID:-//ChamberMaster//Event Calendar 2.0//EN
METHOD:PUBLISH
X-PUBLISHED-TTL:P3D
REFRESH-INTERVAL:P3D
CALSCALE:GREGORIAN
BEGIN:VEVENT
DTSTART:20230713T154500Z
DTEND:20230714T010000Z
X-MICROSOFT-CDO-ALLDAYEVENT:FALSE
SUMMARY:Community Strong Golf Fundraiser
DESCRIPTION:The Community Strong Golf Fundraiser will fund the Y's financial assistance scholarships\, and support its operations and community programs. Immediately following the event we will hold an outdoor reception from 6 pm-8 pm which will include an open bar\, buffet dinner\, raffles\, auction\, and more.
X-ALT-DESC;FMTTYPE=text/html:The Community Strong Golf Fundraiser will fund the Y&rsquo\;s financial assistance scholarships\, and support its operations and community programs. Immediately following the event we will hold an outdoor reception from 6 pm-8 pm which will include an open bar\, buffet dinner\, raffles\, auction\, and more.
LOCATION:Chevy Chase Country Club\, 1000 N Milwaukee Ave\, Wheeling\, IL 60090
UID:e.434.10754
SEQUENCE:3
DTSTAMP:20260420T225645Z
URL:https://business.glenviewchamber.com/events/details/community-strong-golf-fundraiser-10754
END:VEVENT

END:VCALENDAR
