BEGIN:VCALENDAR
VERSION:2.0
PRODID:-//ChamberMaster//Event Calendar 2.0//EN
METHOD:PUBLISH
X-PUBLISHED-TTL:P3D
REFRESH-INTERVAL:P3D
CALSCALE:GREGORIAN
BEGIN:VEVENT
DTSTART;VALUE=DATE:20220513
DTEND;VALUE=DATE:20220514
TRANSP:TRANSPARENT
X-MICROSOFT-CDO-ALLDAYEVENT:TRUE
SUMMARY:CROATIA - Travel with the Chamber
DESCRIPTION:Travel with the Chamber to CROATIA!\n\n7 Nights in Croatia and Montenegro.  Bring your friends and family!  The more the merrier.\n\nCLICK HERE FOR REGISTRATION FORM\n\nCLICK HERE FOR ZOOM PRESENTATION VIDEO - (Passcode: i@8EwStz)
X-ALT-DESC;FMTTYPE=text/html:Travel with the Chamber to CROATIA!<br />\n7 Nights in Croatia and Montenegro.&nbsp\; Bring your friends and family!&nbsp\; The more the merrier.<br />\n<strong><a href="https://chambermaster.blob.core.windows.net/userfiles/UserFiles/chambers/434/File/GlenviewCroatiafullbleed.pdf"><span style="color:#0000FF\;">CLICK HERE FOR REGISTRATION FORM</span></a><br />\n<a href="https://us02web.zoom.us/rec/share/PFULMyVHYcxW4qR3Bb4G0y3tbOi-dv6n_zb2xrvjqdz-8cLy4whSP4d50jE-b7dO.gLOK9Uf0EmJlPIZl?startTime=1649370770000"><span style="color:#800080\;">CLICK HERE FOR ZOOM PRESENTATION VIDEO</span></a>&nbsp\;-&nbsp\;</strong><span style="color:#0070C0\;"><span style="font-family:calibri\,sans-serif\;"><span style="font-size:11.0pt\;">(Passcode: i@8EwStz)</span></span></span>
LOCATION:On the itinerary is\; Dubrovnik\, Diocletian Palace\, Franciscan Monastrery\, Montenegro\, Boat trip to "Our Lady of the Rock"\, Peljesac Peninsula\, Monstar\, Kotor\, Split\, Trogir\, and Plitvice lakes.
UID:e.434.10609
SEQUENCE:3
DTSTAMP:20260421T182135Z
URL:https://business.glenviewchamber.com/events/details/croatia-travel-with-the-chamber-10609
END:VEVENT

END:VCALENDAR
