BEGIN:VCALENDAR
VERSION:2.0
PRODID:-//ChamberMaster//Event Calendar 2.0//EN
METHOD:PUBLISH
X-PUBLISHED-TTL:P3D
REFRESH-INTERVAL:P3D
CALSCALE:GREGORIAN
BEGIN:VEVENT
DTSTART:20220407T223000Z
DTEND:20220407T233000Z
X-MICROSOFT-CDO-ALLDAYEVENT:FALSE
SUMMARY:CROATIA - Travel with the Chamber Info Session
DESCRIPTION:Informational Zoom Meeting about our upcoming trip to CROATIA!\n\nA 7 night trip\, including airfare\, Hotels\, most meals\, sightseeing & tour fees\, and more.  Departing October 18th\, 2022\n\nHighlights:  Dubrovnik\, Diocletian Palace\, Franciscan Monastery\, Montenegro\, Our Lady of the Rock boat excursion\, Pelesac Peninsula\, Monstar\, Kotor\, Split\, Trogir\, Plitvice Lakes. $3399 Per Traveler.
X-ALT-DESC;FMTTYPE=text/html:Informational Zoom Meeting about our upcoming trip to CROATIA!<br />\nA 7 night trip\, including airfare\, Hotels\, most meals\, sightseeing &amp\; tour fees\, and more.&nbsp\; Departing October 18th\, 2022<br />\nHighlights:&nbsp\; Dubrovnik\, Diocletian Palace\, Franciscan Monastery\, Montenegro\, Our Lady of the Rock boat excursion\, Pelesac Peninsula\, Monstar\, Kotor\, Split\, Trogir\, Plitvice Lakes. $3399 Per Traveler.
LOCATION:Join Zoom Meeting https://us02web.zoom.us/j/9415987782?pwd=ZFVNUFhzZWY2THpsc1k3SmovdXZpQT09 Meeting ID: 941 598 7782 Passcode: Croatia
UID:e.434.10598
SEQUENCE:3
DTSTAMP:20260421T192253Z
URL:https://business.glenviewchamber.com/events/details/croatia-travel-with-the-chamber-info-session-10598
END:VEVENT

END:VCALENDAR
