BEGIN:VCALENDAR
VERSION:2.0
PRODID:-//ChamberMaster//Event Calendar 2.0//EN
METHOD:PUBLISH
X-PUBLISHED-TTL:P3D
REFRESH-INTERVAL:P3D
CALSCALE:GREGORIAN
BEGIN:VEVENT
DTSTART:20240225T210000Z
DTEND:20240225T230000Z
X-MICROSOFT-CDO-ALLDAYEVENT:FALSE
SUMMARY:Cultural Fair
DESCRIPTION:Village of Northbrook's Community Commission is excited to once again present the Northbrook Cultural Fair on Sunday\, February 25\, in partnership with the North Suburban YMCA. The event is set up in a fair format that will include artistic displays\, musical acts\, dance demonstrations\, samples of food\, and educational/informational tables. If you are an individual or member of a cultural organization that would like to participate\, please click on the link or view our website at nsymca.org.
X-ALT-DESC;FMTTYPE=text/html:Village of Northbrook&rsquo\;s Community Commission is excited to once again present the Northbrook Cultural Fair on Sunday\, February 25\, in partnership with the North Suburban YMCA. The event is set up in a fair format that will include artistic displays\, musical acts\, dance demonstrations\, samples of food\, and educational/informational tables. If you are an individual or member of a cultural organization that would like to participate\, please click on the link or view our website at nsymca.org.
LOCATION:North Suburban YMCA\, 2705 Techny Rd. Northbrook. IL 60062
UID:e.434.10889
SEQUENCE:3
DTSTAMP:20260420T143450Z
URL:https://business.glenviewchamber.com/events/details/cultural-fair-10889
END:VEVENT

END:VCALENDAR
