BEGIN:VCALENDAR
VERSION:2.0
PRODID:-//ChamberMaster//Event Calendar 2.0//EN
METHOD:PUBLISH
X-PUBLISHED-TTL:P3D
REFRESH-INTERVAL:P3D
CALSCALE:GREGORIAN
BEGIN:VEVENT
DTSTART:20201205T230000Z
DTEND:20201206T013000Z
X-MICROSOFT-CDO-ALLDAYEVENT:FALSE
SUMMARY:Drive-In Movie Night
DESCRIPTION:A night out! Just like they used to do it back in the olden days. Back before you could drive. Before you were born. Before the Beatles came to America and Elvis discovered peanut butter.\n\n \n\nElf Starring Will Ferrell\,  Rated PG\n\nGates Open: 4:30 pm\, Movie starts at 5 pm. Enter off West Lake Avenue through Robin Lane.\n\nSponsored by Wintrust Mortgage/Andrew Luett\, Wintrust Wealth Management/Todd Marmor and Glenview Bank & Trust\n\n \n\nSpace is limited\, first come first served. This is a socially distant event\, masks are required if you are outside of your car and will be enforced. Each car will get an additional 8 feet of space. Sound is through your FM car radio. Order carryout from your favorite Glenview restaurant and bring it to the enjoy at the parking lot. Port-a-potty bathrooms are available for use. No pets or alcohol allowed at this event. \n\n \n\nReservations are required and admission is $40/car. We are encouraging donations to the Northfield Township Food Pantry by monetary donations here: https://twp.northfield.il.us/pantry/  or bringing food items\, cleaning supplies or hygiene products to the event. Volunteers will be collecting on site at check-in.
X-ALT-DESC;FMTTYPE=text/html:<div style="margin: 0px\; padding: 0px\; border: 0px\; font-variant-numeric: normal\; font-variant-east-asian: normal\; font-stretch: normal\; font-size: 14px\; line-height: 22px\; font-family: AsapRegular\, Arial\, sans-serif\; vertical-align: baseline\; color: rgb(76\, 76\, 83)\; box-sizing: border-box\;"><span style="color:#000000\;"><span style="font-size:12px\;"><span style="font-family:verdana\;"><span style="margin: 0px\; padding: 0px\; border: 0px\; font-variant-numeric: normal\; font-variant-east-asian: normal\; font-stretch: normal\; line-height: 22px\; vertical-align: baseline\; box-sizing: border-box\;">A night out! Just like they used to do it back in the olden days. Back before you could drive. Before you were born. Before the Beatles came to America and Elvis discovered peanut butter.</span></span></span></span></div>\n\n<p style="margin: 0px\; padding: 0px\; border: 0px\; font-variant-numeric: normal\; font-variant-east-asian: normal\; font-stretch: normal\; font-size: 14px\; line-height: 22px\; font-family: AsapRegular\, Arial\, sans-serif\; vertical-align: baseline\; color: rgb(76\, 76\, 83)\; box-sizing: border-box\;">&nbsp\;</p>\n\n<div style="margin: 0px\; padding: 0px\; border: 0px\; font-variant-numeric: normal\; font-variant-east-asian: normal\; font-stretch: normal\; font-size: 14px\; line-height: 22px\; font-family: AsapRegular\, Arial\, sans-serif\; vertical-align: baseline\; color: rgb(76\, 76\, 83)\; box-sizing: border-box\;"><span style="color:#000000\;"><span style="font-size:12px\;"><span style="font-family:verdana\;"><strong><span style="margin: 0px\; padding: 0px\; border: 0px\; font-variant-numeric: normal\; font-variant-east-asian: normal\; font-stretch: normal\; line-height: 22px\; vertical-align: baseline\; box-sizing: border-box\;">Elf Starring Will Ferrell\,&nbsp\; Rated PG</span></strong></span></span></span></div>\n\n<div style="margin: 0px\; padding: 0px\; border: 0px\; font-variant-numeric: normal\; font-variant-east-asian: normal\; font-stretch: normal\; font-size: 14px\; line-height: 22px\; font-family: AsapRegular\, Arial\, sans-serif\; vertical-align: baseline\; color: rgb(76\, 76\, 83)\; box-sizing: border-box\;"><span style="color:#000000\;"><span style="font-size:12px\;"><span style="font-family:verdana\;"><span style="margin: 0px\; padding: 0px\; border: 0px\; font-variant-numeric: normal\; font-variant-east-asian: normal\; font-stretch: normal\; line-height: 22px\; vertical-align: baseline\; box-sizing: border-box\;">Gates Open: 4:30 pm\, Movie starts at 5 pm. Enter off West Lake Avenue through Robin Lane.</span><br />\nSponsored by Wintrust Mortgage/Andrew Luett\, Wintrust Wealth Management/Todd Marmor and Glenview Bank &amp\; Trust</span></span></span></div>\n\n<div style="margin: 0px\; padding: 0px\; border: 0px\; font-variant-numeric: normal\; font-variant-east-asian: normal\; font-stretch: normal\; font-size: 14px\; line-height: 22px\; font-family: AsapRegular\, Arial\, sans-serif\; vertical-align: baseline\; color: rgb(76\, 76\, 83)\; box-sizing: border-box\;">&nbsp\;</div>\n\n<div style="margin: 0px\; padding: 0px\; border: 0px\; font-variant-numeric: normal\; font-variant-east-asian: normal\; font-stretch: normal\; font-size: 14px\; line-height: 22px\; font-family: AsapRegular\, Arial\, sans-serif\; vertical-align: baseline\; color: rgb(76\, 76\, 83)\; box-sizing: border-box\; outline: 0px\;"><span style="color:#000000\;"><span style="font-size:12px\;"><span style="font-family:verdana\;"><span style="margin: 0px\; padding: 0px\; border: 0px\; font-style: italic\; font-variant-numeric: normal\; font-variant-east-asian: normal\; font-stretch: normal\; line-height: 22px\; vertical-align: baseline\; box-sizing: border-box\;"><strong>Space is limited\, first come first served.</strong>&nbsp\;</span><span style="margin: 0px\; padding: 0px\; border: 0px\; font-variant-numeric: normal\; font-variant-east-asian: normal\; font-stretch: normal\; line-height: 22px\; vertical-align: baseline\; box-sizing: border-box\; outline: 0px\;">This is a socially distant event\, masks are required if you are outside of your car and will be enforced. Each car will get an additional 8 feet of space. Sound is through your FM car radio. Order carryout from your favorite Glenview restaurant and bring it to the enjoy at the parking lot. Port-a-potty&nbsp\;bathrooms are available for use. No pets or alcohol allowed at this event.&nbsp\;</span></span></span></span><br />\n&nbsp\;</div>\n\n<div style="margin: 0px\; padding: 0px\; border: 0px\; font-variant-numeric: normal\; font-variant-east-asian: normal\; font-stretch: normal\; font-size: 14px\; line-height: 22px\; font-family: AsapRegular\, Arial\, sans-serif\; vertical-align: baseline\; color: rgb(76\, 76\, 83)\; box-sizing: border-box\;"><span style="font-size:12px\;"><span style="font-family:verdana\;"><span style="margin: 0px\; padding: 0px\; border: 0px\; font-variant-numeric: normal\; font-variant-east-asian: normal\; font-stretch: normal\; line-height: 22px\; vertical-align: baseline\; box-sizing: border-box\;"><span style="color:#000000\;">Reservations are required and admission is $40/car. We are encouraging donations to the Northfield Township Food Pantry by monetary donations here:&nbsp\;</span></span><a href="https://twp.northfield.il.us/pantry/" rel="noopener noreferrer" style="margin: 0px\; padding: 0px\; border: 0px\; font-variant-numeric: normal\; font-variant-east-asian: normal\; font-stretch: normal\; line-height: 22px\; font-family: Calibri\, Helvetica\, Arial\, sans-serif\; vertical-align: baseline\; color: rgb(31\, 73\, 125)\; text-decoration-line: none\; transition: all 0.3s ease 0s\; box-sizing: border-box\; background-color: transparent\; overflow-wrap: break-word\; outline: 0px\;" target="_blank"><span style="color:#000000\;">https://twp.northfield.il.us/pantry/</span></a><span style="color:#000000\;"><span style="margin: 0px\; padding: 0px\; border: 0px\; font-variant-numeric: normal\; font-variant-east-asian: normal\; font-stretch: normal\; line-height: 22px\; vertical-align: baseline\; box-sizing: border-box\;">&nbsp\; or bringing food items\, cleaning supplies or hygiene products to the event. Volunteers will be collecting on site at check-in.</span></span></span></span></div>\n
LOCATION:Glenbrook South High School 4000 W. Lake Avenue Glenview
UID:e.434.10515
SEQUENCE:3
DTSTAMP:20260422T172733Z
URL:https://business.glenviewchamber.com/events/details/drive-in-movie-night-10515
END:VEVENT

END:VCALENDAR
