BEGIN:VCALENDAR
VERSION:2.0
PRODID:-//ChamberMaster//Event Calendar 2.0//EN
METHOD:PUBLISH
X-PUBLISHED-TTL:P3D
REFRESH-INTERVAL:P3D
CALSCALE:GREGORIAN
BEGIN:VEVENT
DTSTART:20200922T130000Z
DTEND:20200922T140000Z
X-MICROSOFT-CDO-ALLDAYEVENT:FALSE
SUMMARY:Economic Outlook Breakfast
DESCRIPTION:Featuring H. Cameron Hinds\, CFA\n\nWells Fargo Private Bank\n\nChief Investment Officer\, Central Region\n\n \n\nRegister here: https://us02web.zoom.us/meeting/register/tZMscOCrrzwtEtX9q3xxyQu4mctl-FbU-oFa\n\n \n\nAt a time of great political and economic uncertainty\, resilience will be an essential quality for successful investment and business planning. To explore the challenges and opportunities ahead\, the Northbrook\, Glenview\, DBR Chambers will welcome H. Cameron Hinds of Wells Fargo Private Bank as the featured speaker at the 2020 Economic Outlook Breakfast.
X-ALT-DESC;FMTTYPE=text/html:<div style="color: rgb(255\, 255\, 255)\; font-family: Helvetica\, Arial\, sans-serif\; font-size: 16px\; white-space: pre-wrap\; background-color: rgb(248\, 248\, 248)\;"><span style="color: rgb(31\, 73\, 125)\; font-family: Calibri\, Helvetica\, Arial\, sans-serif\;">Featuring H. Cameron Hinds\, CFA</span></div>\n\n<div style="color: rgb(255\, 255\, 255)\; font-family: Helvetica\, Arial\, sans-serif\; font-size: 16px\; white-space: pre-wrap\; background-color: rgb(248\, 248\, 248)\;"><span style="color: rgb(31\, 73\, 125)\; font-family: Calibri\, Helvetica\, Arial\, sans-serif\;">Wells Fargo Private Bank</span></div>\n\n<div style="color: rgb(255\, 255\, 255)\; font-family: Helvetica\, Arial\, sans-serif\; font-size: 16px\; white-space: pre-wrap\; background-color: rgb(248\, 248\, 248)\;"><span style="color: rgb(31\, 73\, 125)\; font-family: Calibri\, Helvetica\, Arial\, sans-serif\;">Chief Investment Officer\, Central Region</span></div>\n\n<div style="color: rgb(255\, 255\, 255)\; font-family: Helvetica\, Arial\, sans-serif\; font-size: 16px\; white-space: pre-wrap\; background-color: rgb(248\, 248\, 248)\;">&nbsp\;</div>\n\n<div style="color: rgb(255\, 255\, 255)\; font-family: Helvetica\, Arial\, sans-serif\; font-size: 16px\; white-space: pre-wrap\; background-color: rgb(248\, 248\, 248)\;"><span style="color: rgb(31\, 73\, 125)\; font-family: Calibri\, Helvetica\, Arial\, sans-serif\;">Register here: </span><a data-link-type="web" href="https://us02web.zoom.us/meeting/register/tZMscOCrrzwtEtX9q3xxyQu4mctl-FbU-oFa" rel="noopener noreferrer" style="color: rgb(31\, 73\, 125)\; font-family: Calibri\, Helvetica\, Arial\, sans-serif\;" target="_blank">https://us02web.zoom.us/meeting/register/tZMscOCrrzwtEtX9q3xxyQu4mctl-FbU-oFa</a></div>\n\n<div style="color: rgb(255\, 255\, 255)\; font-family: Helvetica\, Arial\, sans-serif\; font-size: 16px\; white-space: pre-wrap\; background-color: rgb(248\, 248\, 248)\;">&nbsp\;</div>\n\n<div style="color: rgb(255\, 255\, 255)\; font-family: Helvetica\, Arial\, sans-serif\; font-size: 16px\; white-space: pre-wrap\; background-color: rgb(248\, 248\, 248)\;"><span style="color: rgb(31\, 73\, 125)\; font-family: Calibri\, Helvetica\, Arial\, sans-serif\;">At a time of great political and economic uncertainty\, resilience will be an essential quality for successful investment and business planning.&nbsp\;To explore the challenges and opportunities ahead\, the Northbrook\, Glenview\, DBR Chambers&nbsp\;will welcome H. Cameron Hinds of Wells Fargo Private Bank as the featured speaker at the 2020 Economic Outlook Breakfast.&nbsp\;</span></div>\n
LOCATION:
UID:e.434.10464
SEQUENCE:3
DTSTAMP:20260422T223231Z
URL:https://business.glenviewchamber.com/events/details/economic-outlook-breakfast-10464
END:VEVENT

END:VCALENDAR
