BEGIN:VCALENDAR
VERSION:2.0
PRODID:-//ChamberMaster//Event Calendar 2.0//EN
METHOD:PUBLISH
X-PUBLISHED-TTL:P3D
REFRESH-INTERVAL:P3D
CALSCALE:GREGORIAN
BEGIN:VEVENT
DTSTART:20240111T180000Z
DTEND:20240111T190000Z
X-MICROSOFT-CDO-ALLDAYEVENT:FALSE
SUMMARY:Effective Communication Strategies
DESCRIPTION:Alzheimer's is not normal aging. It's a disease of the brain that causes problems with memory\, thinking and behavior. Join us to learn about: The Impact of Alzheimer's\, The difference between Alzheimer's and dementia\, Alzheimer's disease stages and risk factors\, current research and treatments available to address some symptoms\, and Alzheimer's Association resources.
X-ALT-DESC;FMTTYPE=text/html:Alzheimer&#39\;s is not normal aging. It&#39\;s a disease of the brain that causes problems with memory\, thinking and behavior. Join us to learn about: The Impact of Alzheimer&#39\;s\, The difference between Alzheimer&#39\;s and dementia\, Alzheimer&#39\;s disease stages and risk factors\, current research and treatments available to address some symptoms\, and Alzheimer&#39\;s Association resources.
LOCATION:Virtual
UID:e.434.10879
SEQUENCE:3
DTSTAMP:20260420T185636Z
URL:https://business.glenviewchamber.com/events/details/effective-communication-strategies-10879
END:VEVENT

END:VCALENDAR
