BEGIN:VCALENDAR
VERSION:2.0
PRODID:-//ChamberMaster//Event Calendar 2.0//EN
METHOD:PUBLISH
X-PUBLISHED-TTL:P3D
REFRESH-INTERVAL:P3D
CALSCALE:GREGORIAN
BEGIN:VEVENT
DTSTART:20230610T143000Z
DTEND:20230610T200000Z
X-MICROSOFT-CDO-ALLDAYEVENT:FALSE
SUMMARY:Eric Fischer Memorial Fund and Ride
DESCRIPTION:To honor the giving spirit of Eric Fischer\, his friends and family continue his legacy through the Eric Fischer Memorial Fund. This fund will help the North Suburban YMCA provide financial aid to families\, seniors and children in need in the 15 communities they serve   including Wheeling. Bikers start at Willow Creek Church and end their memorial ride at the North Suburban YMCA where the celebration continues with a tribute to Eric and his life with food\, music and a memorial remembrance. Not a rider? Come join us for the memorial celebration at the North Suburban YMCA between 2:00-3:00 pm
X-ALT-DESC;FMTTYPE=text/html:To honor the giving spirit of Eric Fischer\, his friends and family continue his legacy through the Eric Fischer Memorial Fund. This fund will help the North Suburban YMCA provide financial aid to families\, seniors and children in need in the 15 communities they serve &ndash\; including Wheeling. Bikers start at Willow Creek Church and end their memorial ride at the North Suburban YMCA where the celebration continues with a tribute to Eric and his life with food\, music and a memorial remembrance. Not a rider? Come join us for the memorial celebration at the North Suburban YMCA between 2:00-3:00 pm
LOCATION:Willow Creek Community Church\, 67 Algonquin Rd\, South Barrington 60010
UID:e.434.10733
SEQUENCE:3
DTSTAMP:20260421T061810Z
URL:https://business.glenviewchamber.com/events/details/eric-fischer-memorial-fund-and-ride-10733
END:VEVENT

END:VCALENDAR
