BEGIN:VCALENDAR
VERSION:2.0
PRODID:-//ChamberMaster//Event Calendar 2.0//EN
METHOD:PUBLISH
X-PUBLISHED-TTL:P3D
REFRESH-INTERVAL:P3D
CALSCALE:GREGORIAN
BEGIN:VEVENT
DTSTART:20240502T210000Z
DTEND:20240502T223000Z
X-MICROSOFT-CDO-ALLDAYEVENT:FALSE
SUMMARY:Estetica Hair Design 40th Anniversary Celebration
DESCRIPTION:Come celebrate the 40th anniversary of Estetica Hair Design! There will be refreshments and a celebratory ribbon cutting.
X-ALT-DESC;FMTTYPE=text/html:Come celebrate the 40th anniversary of Estetica Hair Design! There will be refreshments and a celebratory ribbon cutting.
LOCATION:1159 Waukegan Road Glenview\, IL 60025
UID:e.434.10962
SEQUENCE:3
DTSTAMP:20260420T130256Z
URL:https://business.glenviewchamber.com/events/details/estetica-hair-design-40th-anniversary-celebration-10962
END:VEVENT

END:VCALENDAR
