BEGIN:VCALENDAR
VERSION:2.0
PRODID:-//ChamberMaster//Event Calendar 2.0//EN
METHOD:PUBLISH
X-PUBLISHED-TTL:P3D
REFRESH-INTERVAL:P3D
CALSCALE:GREGORIAN
BEGIN:VEVENT
DTSTART:20241013T180000Z
DTEND:20241013T200000Z
X-MICROSOFT-CDO-ALLDAYEVENT:FALSE
SUMMARY:Fall Fest: Trunk or Treat
DESCRIPTION:Trunk or Treat\, Costume Contest for youth\, Face Painting\, Bounce Houses\, Snacks and Treats for Purchase\, Live Music ft. Bach to Rock. Visit https://www.nsymca.org/events/fall-fest-2024 to sign up for Trunk or Treat. Become a Sponsor: https://www.nsymca.org/sponsorships
X-ALT-DESC;FMTTYPE=text/html:Trunk or Treat\, Costume Contest for youth\, Face Painting\, Bounce Houses\, Snacks and Treats for Purchase\, Live Music ft. Bach to Rock. Visit https://www.nsymca.org/events/fall-fest-2024 to sign up for Trunk or Treat. Become a Sponsor: https://www.nsymca.org/sponsorships
LOCATION:North Suburban YMCA 2705 Techny Rd. Northbrook. IL 60062
UID:e.434.11007
SEQUENCE:3
DTSTAMP:20260422T111141Z
URL:https://business.glenviewchamber.com/events/details/fall-fest-trunk-or-treat-10-13-2024-11007
END:VEVENT

END:VCALENDAR
