BEGIN:VCALENDAR
VERSION:2.0
PRODID:-//ChamberMaster//Event Calendar 2.0//EN
METHOD:PUBLISH
X-PUBLISHED-TTL:P3D
REFRESH-INTERVAL:P3D
CALSCALE:GREGORIAN
BEGIN:VEVENT
DTSTART:20240309T010000Z
DTEND:20240309T023000Z
X-MICROSOFT-CDO-ALLDAYEVENT:FALSE
SUMMARY:Friday Night Out Adult Art Workshop: Acrylic Pour
DESCRIPTION:No Experience Needed! Bring your favorite bottle\, and let the colors flow as you explore the fascinating technique of pouring acrylic paints onto canvas. Our experienced NSYMCA instructor will guide you through the mesmerizing process of creating stunning\, abstract masterpieces through the magic of pouring\, tilting\, and blending vibrant hues.
X-ALT-DESC;FMTTYPE=text/html:No Experience Needed! Bring your favorite bottle\, and let the colors flow as you explore the fascinating technique of pouring acrylic paints onto canvas. Our experienced NSYMCA instructor will guide you through the mesmerizing process of creating stunning\, abstract masterpieces through the magic of pouring\, tilting\, and blending vibrant hues.
LOCATION:North Suburban YMCA 2705 Techny Rd. Northbrook. IL 60062
UID:e.434.10898
SEQUENCE:3
DTSTAMP:20260420T132445Z
URL:https://business.glenviewchamber.com/events/details/friday-night-out-adult-art-workshop-acrylic-pour-10898
END:VEVENT

END:VCALENDAR
