BEGIN:VCALENDAR
VERSION:2.0
PRODID:-//ChamberMaster//Event Calendar 2.0//EN
METHOD:PUBLISH
X-PUBLISHED-TTL:P3D
REFRESH-INTERVAL:P3D
CALSCALE:GREGORIAN
BEGIN:VEVENT
DTSTART:20240413T000000Z
DTEND:20240413T013000Z
X-MICROSOFT-CDO-ALLDAYEVENT:FALSE
SUMMARY:Friday Night Out Adult Art Workshop: Geometric Watercolors
DESCRIPTION:No Experience Needed! Immerse yourself in a world of precision and color at our Friday Night Out - Geometric Watercolors Adult Art Workshop. Grab your favorite bottle and join us for an evening of artistic exploration where geometry meets the fluid beauty of watercolors. Our skilled NSYMCA instructor will guide you through the intricate process of creating striking geometric patterns using the subtle transparency of watercolor paints.
X-ALT-DESC;FMTTYPE=text/html:No Experience Needed! Immerse yourself in a world of precision and color at our Friday Night Out - Geometric Watercolors Adult Art Workshop. Grab your favorite bottle and join us for an evening of artistic exploration where geometry meets the fluid beauty of watercolors. Our skilled NSYMCA instructor will guide you through the intricate process of creating striking geometric patterns using the subtle transparency of watercolor paints.
LOCATION:North Suburban YMCA 2705 Techny Rd. Northbrook. IL 60062
UID:e.434.10917
SEQUENCE:3
DTSTAMP:20260420T132653Z
URL:https://business.glenviewchamber.com/events/details/friday-night-out-adult-art-workshop-geometric-watercolors-10917
END:VEVENT

END:VCALENDAR
