BEGIN:VCALENDAR
VERSION:2.0
PRODID:-//ChamberMaster//Event Calendar 2.0//EN
METHOD:PUBLISH
X-PUBLISHED-TTL:P3D
REFRESH-INTERVAL:P3D
CALSCALE:GREGORIAN
BEGIN:VEVENT
DTSTART:20240210T010000Z
DTEND:20240210T023000Z
X-MICROSOFT-CDO-ALLDAYEVENT:FALSE
SUMMARY:Friday Night Out Adult Art Workshop: Heart Art
DESCRIPTION:No Experience Needed! Join us for a heartfelt experience at our Friday Night Out Adult Art Workshop! Bring your favorite bottle and let the love flow as you craft beautiful and personalized hearts. Our skilled instructor will guide you through the creative process\, providing a variety of techniques to express your emotions through art.
X-ALT-DESC;FMTTYPE=text/html:No Experience Needed! Join us for a heartfelt experience at our Friday Night Out Adult Art Workshop! Bring your favorite bottle and let the love flow as you craft beautiful and personalized hearts. Our skilled instructor will guide you through the creative process\, providing a variety of techniques to express your emotions through art.
LOCATION:North Suburban YMCA\, 2705 Techny Rd. Northbrook. IL 60062
UID:e.434.10892
SEQUENCE:3
DTSTAMP:20260420T145918Z
URL:https://business.glenviewchamber.com/events/details/friday-night-out-adult-art-workshop-heart-art-10892
END:VEVENT

END:VCALENDAR
