BEGIN:VCALENDAR
VERSION:2.0
PRODID:-//ChamberMaster//Event Calendar 2.0//EN
METHOD:PUBLISH
X-PUBLISHED-TTL:P3D
REFRESH-INTERVAL:P3D
CALSCALE:GREGORIAN
BEGIN:VEVENT
DTSTART:20240511T000000Z
DTEND:20240511T013000Z
X-MICROSOFT-CDO-ALLDAYEVENT:FALSE
SUMMARY:Friday Night Out Adult Art Workshop: Impasto Palette Painting
DESCRIPTION:No Art Experience Needed! Indulge your senses in the tactile world of texture and color at our Friday Night Out - Impasto Palette Painting Adult Art Workshop. Bring along your favorite bottle and join us for an immersive artistic experience where the palette knife becomes your brush. Our expert NSYMCA instructor will guide you through the technique of impasto painting\, a method that involves thick\, expressive strokes of paint to create a three-dimensional texture on your canvas.
X-ALT-DESC;FMTTYPE=text/html:No Art Experience Needed! Indulge your senses in the tactile world of texture and color at our Friday Night Out - Impasto Palette Painting Adult Art Workshop. Bring along your favorite bottle and join us for an immersive artistic experience where the palette knife becomes your brush. Our expert NSYMCA instructor will guide you through the technique of impasto painting\, a method that involves thick\, expressive strokes of paint to create a three-dimensional texture on your canvas.
LOCATION:North Suburban YMCA 2705 Techny Rd. Northbrook. IL 60062
UID:e.434.10921
SEQUENCE:3
DTSTAMP:20260420T130437Z
URL:https://business.glenviewchamber.com/events/details/friday-night-out-adult-art-workshop-impasto-palette-painting-10921
END:VEVENT

END:VCALENDAR
