BEGIN:VCALENDAR
VERSION:2.0
PRODID:-//ChamberMaster//Event Calendar 2.0//EN
METHOD:PUBLISH
X-PUBLISHED-TTL:P3D
REFRESH-INTERVAL:P3D
CALSCALE:GREGORIAN
BEGIN:VEVENT
DTSTART:20231209T010000Z
DTEND:20231209T023000Z
X-MICROSOFT-CDO-ALLDAYEVENT:FALSE
SUMMARY:Friday Night out Adult Workshop! Needle Felting
DESCRIPTION:Bring a friend\, bring a beverage! No artistic skills or supplies needed. This stress-relieving and meditative art form uses colored wool and felting needles to create a three-dimensional piece of art.
X-ALT-DESC;FMTTYPE=text/html:Bring a friend\, bring a beverage! No artistic skills or supplies needed. This stress-relieving and meditative art form uses colored wool and felting needles to create a three-dimensional piece of art.
LOCATION:North Suburban YMCA\, 2705 Techny Rd. Northbrook. IL 60062
UID:e.434.10870
SEQUENCE:3
DTSTAMP:20260420T203513Z
URL:https://business.glenviewchamber.com/events/details/friday-night-out-adult-workshop-needle-felting-10870
END:VEVENT

END:VCALENDAR
