BEGIN:VCALENDAR
VERSION:2.0
PRODID:-//ChamberMaster//Event Calendar 2.0//EN
METHOD:PUBLISH
X-PUBLISHED-TTL:P3D
REFRESH-INTERVAL:P3D
CALSCALE:GREGORIAN
BEGIN:VEVENT
DTSTART:20240914T000000Z
DTEND:20240914T013000Z
X-MICROSOFT-CDO-ALLDAYEVENT:FALSE
SUMMARY:Friday Night Out: Freeform Abstract Art
DESCRIPTION:Friday Night Out Art Workshops at the NSYMCA offer a unique opportunity to explore different art mediums in a relaxed\, social setting. Held one Friday each month\, these workshops are perfect for both beginners and experienced artists. Participants can bring their own drinks and enjoy a casual\, fun evening of creativity and camaraderie. It's a great way to unwind\, learn new techniques\, and connect with fellow art enthusiasts. Adults only.
X-ALT-DESC;FMTTYPE=text/html:Friday Night Out Art Workshops at the NSYMCA offer a unique opportunity to explore different art mediums in a relaxed\, social setting. Held one Friday each month\, these workshops are perfect for both beginners and experienced artists. Participants can bring their own drinks and enjoy a casual\, fun evening of creativity and camaraderie. It&#39\;s a great way to unwind\, learn new techniques\, and connect with fellow art enthusiasts. Adults only.
LOCATION:North Suburban YMCA 2705 Techny Rd. Northbrook. IL 60062
UID:e.434.11048
SEQUENCE:3
DTSTAMP:20260420T102339Z
URL:https://business.glenviewchamber.com/events/details/friday-night-out-freeform-abstract-art-11048
END:VEVENT

END:VCALENDAR
