BEGIN:VCALENDAR
VERSION:2.0
PRODID:-//ChamberMaster//Event Calendar 2.0//EN
METHOD:PUBLISH
X-PUBLISHED-TTL:P3D
REFRESH-INTERVAL:P3D
CALSCALE:GREGORIAN
BEGIN:VEVENT
DTSTART:20240920T223000Z
DTEND:20240920T233000Z
X-MICROSOFT-CDO-ALLDAYEVENT:FALSE
SUMMARY:Front Porch Concert
DESCRIPTION:Join us outside at the Elm Street entrance for The Kevin Kizer Jazz Quartet playing Autumn jazz. Stay after the concert for a peace collaboration with the Glenview Public Library. Sponsored by GCC Friends of Music. A free will offering will be taken. Bring a chair!
X-ALT-DESC;FMTTYPE=text/html:Join us outside at the Elm Street entrance for The Kevin Kizer Jazz Quartet playing Autumn jazz. Stay after the concert for a peace collaboration with the Glenview Public Library. Sponsored by GCC Friends of Music. A free will offering will be taken. Bring a chair!
LOCATION:Glenview Community Church\, 1000 Elm St. Glenview
UID:e.434.11061
SEQUENCE:3
DTSTAMP:20260420T102240Z
URL:https://business.glenviewchamber.com/events/details/front-porch-concert-11061
END:VEVENT

END:VCALENDAR
