BEGIN:VCALENDAR
VERSION:2.0
PRODID:-//ChamberMaster//Event Calendar 2.0//EN
METHOD:PUBLISH
X-PUBLISHED-TTL:P3D
REFRESH-INTERVAL:P3D
CALSCALE:GREGORIAN
BEGIN:VEVENT
DTSTART:20190602T150000Z
DTEND:20190602T200000Z
X-MICROSOFT-CDO-ALLDAYEVENT:FALSE
SUMMARY:Get out and Go Nature Scavenger Hunt
DESCRIPTION:June 02/2019 10 AM - 3 PM
X-ALT-DESC;FMTTYPE=text/html:June 02/2019 10 AM - 3 PM
LOCATION:Free no early registration required
UID:e.434.10165
SEQUENCE:3
DTSTAMP:20260425T173038Z
URL:https://business.glenviewchamber.com/events/details/get-out-and-go-nature-scavenger-hunt-10165
END:VEVENT

END:VCALENDAR
