BEGIN:VCALENDAR
VERSION:2.0
PRODID:-//ChamberMaster//Event Calendar 2.0//EN
METHOD:PUBLISH
X-PUBLISHED-TTL:P3D
REFRESH-INTERVAL:P3D
CALSCALE:GREGORIAN
BEGIN:VEVENT
DTSTART:20240319T140000Z
DTEND:20240319T170000Z
X-MICROSOFT-CDO-ALLDAYEVENT:FALSE
SUMMARY:Glenview Chamber Open House
DESCRIPTION:Come learn more about the Glenview Chamber of Commerce and how it can help your business through networking\, marketing\, getting involved in the community\, and more. Open to all business leaders interested in learning more about the Glenview Chamber.
X-ALT-DESC;FMTTYPE=text/html:<span style="color: rgb(76\, 76\, 83)\; font-family: AsapRegular\, Arial\, sans-serif\; font-size: 14px\;">Come learn more about the Glenview Chamber of Commerce and how it can help your business through networking\, marketing\, getting involved in the community\, and more. Open to all business leaders interested in learning more about the Glenview Chamber.&nbsp\;</span>
LOCATION:2222 Chestnut Ave. Busey Conference Room- 1st floor Glenview\, IL 60026
UID:e.434.10918
SEQUENCE:3
DTSTAMP:20260420T115308Z
URL:https://business.glenviewchamber.com/events/details/glenview-chamber-open-house-10918
END:VEVENT

END:VCALENDAR
