BEGIN:VCALENDAR
VERSION:2.0
PRODID:-//ChamberMaster//Event Calendar 2.0//EN
METHOD:PUBLISH
X-PUBLISHED-TTL:P3D
REFRESH-INTERVAL:P3D
CALSCALE:GREGORIAN
BEGIN:VEVENT
DTSTART:20240310T200000Z
DTEND:20240310T220000Z
X-MICROSOFT-CDO-ALLDAYEVENT:FALSE
SUMMARY:Glenview Community Church Hosts 10th anniversary Concert for Peace: Home
DESCRIPTION:The Glenview Community Church\, 1000 Elm Street\, hosts its 10th anniversary concert exploring the theme of peace\, "Concert for Peace: Home"\, on Sunday\, March 10\, at 3:00 p.m. Vocalist Jade Maze\, organist Gary Wendt\, saxophonist Kevin Kizer\, violinists Katherine Hughes and Carol Kalvonjian\, violist Ray Ostwald\, cellist Jill Kaeding\, pianist Kent Wehman\, bassist Ken Haebich and drummer Neal Wehman perform songs about peace in a variety of styles\, from traditional to contemporary. Post concert reception to follow. A free-will offering benefits the church's Friends of Music fund. For more information call the church office at 847-724-2210 or visit our website at www.gccucc.org.
X-ALT-DESC;FMTTYPE=text/html:The Glenview Community Church\, 1000 Elm Street\, hosts its 10th anniversary concert exploring the theme of peace\, &ldquo\;Concert for Peace: Home&rdquo\;\, on Sunday\, March 10\, at 3:00 p.m. Vocalist Jade Maze\, organist Gary Wendt\, saxophonist Kevin Kizer\, violinists Katherine Hughes and Carol Kalvonjian\, violist Ray Ostwald\, cellist Jill Kaeding\, pianist Kent Wehman\, bassist Ken Haebich and drummer Neal Wehman perform songs about peace in a variety of styles\, from traditional to contemporary. Post concert reception to follow. A free-will offering benefits the church&rsquo\;s Friends of Music fund. For more information call the church office at 847-724-2210 or visit our website at www.gccucc.org.
LOCATION:Glenview Community Church\, 1000 Elm St.\, Glenview
UID:e.434.10934
SEQUENCE:3
DTSTAMP:20260420T132652Z
URL:https://business.glenviewchamber.com/events/details/glenview-community-church-hosts-10th-anniversary-concert-for-peace-home-10934
END:VEVENT

END:VCALENDAR
