BEGIN:VCALENDAR
VERSION:2.0
PRODID:-//ChamberMaster//Event Calendar 2.0//EN
METHOD:PUBLISH
X-PUBLISHED-TTL:P3D
REFRESH-INTERVAL:P3D
CALSCALE:GREGORIAN
BEGIN:VEVENT
DTSTART:20220521T150000Z
DTEND:20220521T180000Z
X-MICROSOFT-CDO-ALLDAYEVENT:FALSE
SUMMARY:Glenview Health Fair
DESCRIPTION:Glenview Chamber in partnership with Village of Glenview and Glenview Park District Presents...\n\nGlenview Health Fair \n\n\n\nJoin 25 different vendors in dental health\, physical therapy\, chiropractic care\, orthodontic care\, fitness centers\, mental health and more! Make your health always your priority. Participate in this year's exciting activities and take steps towards a better lifestyle. What to expect:\n\nHealth Fair Vendors\n\nFree health screenings\n\nRefreshments\n\nGiveaways\n\nRaffle Prizes \n\nChildren's Activity Table\n\nSPONSORED BY: NorthShore Glenbrook Hospital\, Northwestern Medicine\, Nolan & Freund\, North Shore Associates in Gynecology & Obstetrics\, The HOT Room Yoga\, Illinois Bone & Joint Institute\, American Solutions for Business\, CKF Acupuncture
X-ALT-DESC;FMTTYPE=text/html:<p>Glenview Chamber in partnership with Village of Glenview and Glenview Park District Presents...</p>\n\n<p><strong>Glenview Health Fair&nbsp\;</strong><br />\n<br />\nJoin 25&nbsp\;different vendors in dental health\, physical therapy\, chiropractic care\, orthodontic care\, fitness centers\, mental health and more! Make your health always your priority. Participate in this year&#39\;s exciting activities and take steps towards a better lifestyle. What to expect:<br />\nHealth Fair Vendors<br />\nFree health screenings<br />\nRefreshments<br />\nGiveaways<br />\nRaffle Prizes&nbsp\;<br />\nChildren&#39\;s Activity Table</p>\n\n<p><strong>SPONSORED BY: NorthShore Glenbrook Hospital\, Northwestern Medicine\, Nolan &amp\; Freund\, North Shore Associates in Gynecology &amp\;&nbsp\;Obstetrics\, The HOT Room Yoga\, Illinois Bone &amp\; Joint Institute\, American Solutions for Business\, CKF Acupuncture&nbsp\;</strong></p>\n
LOCATION:Glenview United Methodist Church Main Gym 727 Harlem Avenue Glenview
UID:e.434.10583
SEQUENCE:3
DTSTAMP:20260421T181253Z
URL:https://business.glenviewchamber.com/events/details/glenview-health-fair-10583
END:VEVENT

END:VCALENDAR
