BEGIN:VCALENDAR
VERSION:2.0
PRODID:-//ChamberMaster//Event Calendar 2.0//EN
METHOD:PUBLISH
X-PUBLISHED-TTL:P3D
REFRESH-INTERVAL:P3D
CALSCALE:GREGORIAN
BEGIN:VEVENT
DTSTART:20210522T143000Z
DTEND:20210522T173000Z
X-MICROSOFT-CDO-ALLDAYEVENT:FALSE
SUMMARY:Glenview Hiring Fair
DESCRIPTION:The Glenview Chamber is organizing a hiring fair on Saturday\, May 22 from 9:30am - 12:30pm at Glenview Park Center in the main gym. This event will follow CDC guidelines with tables 6 feet apart\, masks required\, temperature checks at the entry\, staggered arrival times for attendees\, and other safety measures. Applicants are strongly encouraged to pre-register here: https://www.eventbrite.com/e/glenview-hiring-fair-tickets-153558976031\n\n\n\nEmployers include: Glenview Grind\, Village of Glenview\, Glenview Park District\, Associated Bank\, Baird & Warner\, Kiddie Academy Glenview\, Grandpa's Place\, Burger Fi\, Yardhouse\, YogaSix and more.
X-ALT-DESC;FMTTYPE=text/html:<span style="font-family:verdana\;"><span style="color:#434C54\;"><span style="font-size:14px\;">The Glenview Chamber is organizing a hiring fair on Saturday\, May 22 from 9:30am - 12:30pm at Glenview Park Center in the main gym. This event will follow CDC guidelines with tables 6 feet apart\, masks required\, temperature checks at the entry\, staggered arrival times for attendees\, and other safety measures. Applicants are strongly encouraged to pre-register here<strong>:<a href="https://www.eventbrite.com/e/glenview-hiring-fair-tickets-153558976031">&nbsp\;</a></strong></span></span></span><span style="font-size:14px\;"><strong><a href="https://www.eventbrite.com/e/glenview-hiring-fair-tickets-153558976031">https://www.eventbrite.com/e/glenview-hiring-fair-tickets-153558976031</a></strong></span><br />\n<br />\n<span style="font-family:verdana\;"><span style="font-size:14px\;"><span style="color: rgb(5\, 5\, 5)\;">Employers include: Glenview Grind\, Village of Glenview\, Glenview Park District\, Associated Bank\, Baird &amp\; Warner\, Kiddie Academy Glenview\, Grandpa&#39\;s Place\, Burger Fi\, Yardhouse\, YogaSix and more.</span></span></span>
LOCATION:
UID:e.434.10551
SEQUENCE:3
DTSTAMP:20260422T104232Z
URL:https://business.glenviewchamber.com/events/details/glenview-hiring-fair-10551
END:VEVENT

END:VCALENDAR
