BEGIN:VCALENDAR
VERSION:2.0
PRODID:-//ChamberMaster//Event Calendar 2.0//EN
METHOD:PUBLISH
X-PUBLISHED-TTL:P3D
REFRESH-INTERVAL:P3D
CALSCALE:GREGORIAN
BEGIN:VEVENT
DTSTART:20240427T150000Z
DTEND:20240427T170000Z
X-MICROSOFT-CDO-ALLDAYEVENT:FALSE
SUMMARY:Glenview Resident Open House
DESCRIPTION:Learn about Glenview at one time in one place at the Glenview Resident Open House. Representatives from Village of Glenview\, Glenview Park District\, Glenview Public Library\, Glenview Chamber of Commerce\, Northfield Township\, and information from other community organizations will be available at this free event.
X-ALT-DESC;FMTTYPE=text/html:<span style="font-family: Roboto\, sans-serif\;">Learn about Glenview at one time in one place at the Glenview Resident Open House. Representatives from Village of Glenview\, Glenview Park District\, Glenview Public Library\, Glenview Chamber of Commerce\, Northfield Township\, and information from other community organizations will be available at this free event.</span>
LOCATION:Park Center 2400 Chestnut Avenue Glenview. IL
UID:e.434.10948
SEQUENCE:3
DTSTAMP:20260420T112411Z
URL:https://business.glenviewchamber.com/events/details/glenview-resident-open-house-10948
END:VEVENT

END:VCALENDAR
