BEGIN:VCALENDAR
VERSION:2.0
PRODID:-//ChamberMaster//Event Calendar 2.0//EN
METHOD:PUBLISH
X-PUBLISHED-TTL:P3D
REFRESH-INTERVAL:P3D
CALSCALE:GREGORIAN
BEGIN:VEVENT
DTSTART:20190820T163000Z
DTEND:20190821T000000Z
X-MICROSOFT-CDO-ALLDAYEVENT:FALSE
SUMMARY:Golf Outing
DESCRIPTION:*REGISTRATION IS CLOSED AS THIS EVENT IS SOLD OUT\n\n\n\nLet's take a break and enjoy the beautiful weather at the Glenview Chamber's Annual Golf Outing. The annual event brings out golfing enthusiasts of all levels to enjoy a day on the links. The golf tournament is perfect to entertain existing and new business clients. There will be awards along with on-course prizes and plenty of raffle items. Lunch and dinner are included in the day. Make plans to play and network with area business leaders.\n\n\n\nThanks to our dinner sponsors: Avidor and Devon Bank.
X-ALT-DESC;FMTTYPE=text/html:<em><strong>*REGISTRATION IS CLOSED AS THIS EVENT IS SOLD OUT</strong></em><br />\n<br />\nLet&#39\;s take a break and enjoy the beautiful weather at the Glenview Chamber&#39\;s Annual Golf Outing. The annual event brings out golfing enthusiasts of all levels to enjoy a day on the links. The golf tournament is perfect to entertain existing and new business clients. There will be awards along with on-course prizes and plenty of raffle items. Lunch and dinner are included in the day. Make plans to play and network with area business leaders.<br />\n<br />\n<span style="font-size:26px\;"><strong>Thanks to our dinner sponsors: Avidor and Devon Bank.&nbsp\;</strong></span>
LOCATION:Glenview Park Golf Club 800 Shermer Rd. Glenview\, IL
UID:e.434.10096
SEQUENCE:3
DTSTAMP:20260425T133423Z
URL:https://business.glenviewchamber.com/events/details/golf-outing-10096
END:VEVENT

END:VCALENDAR
