BEGIN:VCALENDAR
VERSION:2.0
PRODID:-//ChamberMaster//Event Calendar 2.0//EN
METHOD:PUBLISH
X-PUBLISHED-TTL:P3D
REFRESH-INTERVAL:P3D
CALSCALE:GREGORIAN
BEGIN:VEVENT
DTSTART:20200818T170000Z
DTEND:20200819T000000Z
X-MICROSOFT-CDO-ALLDAYEVENT:FALSE
SUMMARY:Golf Outing
DESCRIPTION:Join the Glenview Chamber and guests for a great day of golf and networking.\n\nBring your clients or reward your staff with this beautiful day on the links.\n\nOur golf outing fills up quickly and reservations are on a first-come first-serve basis.\n\nDue to Covid-19 our golf outing is going to look a bit different this year. It is not a shot gun event. Tee time start for all foursomes. Check in begins at 11:15 am. First tee time at noon others follow in 10 minute increments.\n\n\n\nIf we revert to Phase 3\, the event structure may change. We will keep you apprised of the situation.\n\n\n\nDinner will be provided by Johnny's Kitchen & Tap in their outdoor tent\, this is not available to-go. Cash bar. \n\nThis event is sponsored by: Avidor and Wintrust Community Banks - Glenview Bank & Trust | Northview Bank & Trust
X-ALT-DESC;FMTTYPE=text/html:Join the Glenview Chamber and guests for a great day of golf and networking.<br />\nBring your clients or reward your staff with this beautiful day on the links.<br />\nOur golf outing fills up quickly and reservations are on a first-come first-serve basis.<br />\nDue to Covid-19 our golf outing is going to look a bit different this year. It is not a shot gun event. Tee time start for all foursomes. Check in begins at 11:15 am. First tee time at noon others follow in 10 minute increments.<br />\n<br />\nIf we revert to Phase 3\, the event structure may change. We will keep you apprised of the situation.<br />\n<br />\n<span style="font-size:14px\;"><strong>Dinner will be provided by Johnny&#39\;s Kitchen &amp\; Tap in their outdoor tent\, this is not available to-go. Cash bar.&nbsp\;<br />\nThis event is sponsored by: Avidor and Wintrust Community Banks - Glenview Bank &amp\; Trust | Northview Bank &amp\; Trust&nbsp\;</strong></span><br />\n&nbsp\;
LOCATION:Glenview Park Golf Club 800 Shermer Glenview
UID:e.434.10341
SEQUENCE:3
DTSTAMP:20260423T035822Z
URL:https://business.glenviewchamber.com/events/details/golf-outing-10341
END:VEVENT

END:VCALENDAR
