BEGIN:VCALENDAR
VERSION:2.0
PRODID:-//ChamberMaster//Event Calendar 2.0//EN
METHOD:PUBLISH
X-PUBLISHED-TTL:P3D
REFRESH-INTERVAL:P3D
CALSCALE:GREGORIAN
BEGIN:VEVENT
DTSTART:20230822T163000Z
DTEND:20230823T000000Z
X-MICROSOFT-CDO-ALLDAYEVENT:FALSE
SUMMARY:Golf Outing
DESCRIPTION:Let's take a break and enjoy the beautiful weather at the Glenview Chamber's Annual Golf Outing. The annual event brings out golfing enthusiasts of all levels to enjoy a day on the links. The golf tournament is perfect to entertain existing and new business clients. There will be awards along with on-course prizes and plenty of raffle items. Lunch is included in the day. Make plans to play and network with area business leaders.
X-ALT-DESC;FMTTYPE=text/html:<p><span style="font-size: 10pt\; font-family: Arial\, &quot\;sans-serif&quot\;\;">Let&#39\;s take a break and enjoy the beautiful weather at the Glenview Chamber&#39\;s Annual Golf Outing. The annual event brings out golfing enthusiasts of all levels to enjoy a day on the links. The golf tournament is perfect to entertain existing and new business clients. There will be awards along with on-course prizes and plenty of raffle items. Lunch is included in the day. Make plans to play and network with area business leaders.</span><o:p></o:p></p>\n
LOCATION:Glenview Park Golf Club 800 Shermer Road Glenview
UID:e.434.10752
SEQUENCE:3
DTSTAMP:20260420T200626Z
URL:https://business.glenviewchamber.com/events/details/golf-outing-10752
END:VEVENT

END:VCALENDAR
