BEGIN:VCALENDAR
VERSION:2.0
PRODID:-//ChamberMaster//Event Calendar 2.0//EN
METHOD:PUBLISH
X-PUBLISHED-TTL:P3D
REFRESH-INTERVAL:P3D
CALSCALE:GREGORIAN
BEGIN:VEVENT
DTSTART:20200915T180000Z
DTEND:20200915T193000Z
X-MICROSOFT-CDO-ALLDAYEVENT:FALSE
SUMMARY:Grow Your Mailing List & Target New Customers
DESCRIPTION:Learn 30 ways to grow your contact list. Capture new contacts\, widen your reach and propel your business forward. Take advantage of resources available through the Glenview Public Library to target new customers\, look for sales leads and research competition. Presented by Norbert Barsczewski & Claire McCully. Cohosted by SCORE & Glenview Public Library.\n\nRegistration required at  https://zoom.us/meeting/register/tJUuf-iurj4rHtZ_eaQOU9bEpuHN0SsNvI-k
X-ALT-DESC;FMTTYPE=text/html:<p style="background:white"><span style="font-size:11.0pt\;font-family:&quot\;Calibri&quot\;\,&quot\;sans-serif&quot\;\;\ncolor:#333333\;background:white">Learn 30 ways to grow your contact list. Capture new contacts\, widen your reach and propel your business forward. Take advantage of resources available through the Glenview Public Library to target new customers\, look for sales leads and research competition. Presented by Norbert Barsczewski &amp\; Claire McCully. Cohosted by SCORE &amp\; Glenview Public Library.<o:p></o:p></span></p>\n\n<p style="background:white"><span style="font-size:11.0pt\;font-family:&quot\;Calibri&quot\;\,&quot\;sans-serif&quot\;\;\ncolor:black">Registration required at&nbsp\;<b> </b></span><span style="font-size:11.0pt\;font-family:&quot\;Calibri&quot\;\,&quot\;sans-serif&quot\;"><a href="https://zoom.us/meeting/register/tJUuf-iurj4rHtZ_eaQOU9bEpuHN0SsNvI-k">https://zoom.us/meeting/register/tJUuf-iurj4rHtZ_eaQOU9bEpuHN0SsNvI-k</a><span style="color:black"><o:p></o:p></span></span></p>\n
LOCATION:Via Zoom
UID:e.434.10465
SEQUENCE:3
DTSTAMP:20260423T000052Z
URL:https://business.glenviewchamber.com/events/details/grow-your-mailing-list-target-new-customers-10465
END:VEVENT

END:VCALENDAR
