BEGIN:VCALENDAR
VERSION:2.0
PRODID:-//ChamberMaster//Event Calendar 2.0//EN
METHOD:PUBLISH
X-PUBLISHED-TTL:P3D
REFRESH-INTERVAL:P3D
CALSCALE:GREGORIAN
BEGIN:VEVENT
DTSTART:20240321T170000Z
DTEND:20240321T180000Z
X-MICROSOFT-CDO-ALLDAYEVENT:FALSE
SUMMARY:Heal Hip Pain Naturally
DESCRIPTION:Are you unable to walk or exercise like you used to because of hip pain? Is laying on your side causing you pain? Do you sit a lot and then have hip pain when you stand up and begin walking? Are you wondering if your pain is from your hip joint\, hip muscles or your back? Then this workshop\, "How to heal hip pain naturally" is for you.
X-ALT-DESC;FMTTYPE=text/html:Are you unable to walk or exercise like you used to because of hip pain? Is laying on your side causing you pain? Do you sit a lot and then have hip pain when you stand up and begin walking? Are you wondering if your pain is from your hip joint\, hip muscles or your back? Then this workshop\, &quot\;How to heal hip pain naturally&quot\; is for you.
LOCATION:Online
UID:e.434.10932
SEQUENCE:3
DTSTAMP:20260420T115651Z
URL:https://business.glenviewchamber.com/events/details/heal-hip-pain-naturally-03-21-2024-10932
END:VEVENT

END:VCALENDAR
