BEGIN:VCALENDAR
VERSION:2.0
PRODID:-//ChamberMaster//Event Calendar 2.0//EN
METHOD:PUBLISH
X-PUBLISHED-TTL:P3D
REFRESH-INTERVAL:P3D
CALSCALE:GREGORIAN
BEGIN:VEVENT
DTSTART:20240926T170000Z
DTEND:20240926T180000Z
X-MICROSOFT-CDO-ALLDAYEVENT:FALSE
SUMMARY:Heal Low Back Pain and Sciatica
DESCRIPTION:Low back pain and sciatica combine to be the number one reason people go to the doctor\, and we are experiencing an opioid / painkiller epidemic in this country. Questions to Consider: Has your routine been disrupted by pain? Do you have difficulty reaching up or down? Do you lean on things to avoid pain? Are you unable to do the activities you enjoy because of pain? Expert Advice: Denise Schwartz\, a licensed physical therapist\, specializes in treating pain using a holistic approach to discover the root cause of pain and provide natural healing options.
X-ALT-DESC;FMTTYPE=text/html:Low back pain and sciatica combine to be the number one reason people go to the doctor\, and we are experiencing an opioid / painkiller epidemic in this country. Questions to Consider: Has your routine been disrupted by pain? Do you have difficulty reaching up or down? Do you lean on things to avoid pain? Are you unable to do the activities you enjoy because of pain? Expert Advice: Denise Schwartz\, a licensed physical therapist\, specializes in treating pain using a holistic approach to discover the root cause of pain and provide natural healing options.
LOCATION:North Suburban YMCA 2705 Techny Rd. Northbrook. IL 60062
UID:e.434.11044
SEQUENCE:3
DTSTAMP:20260420T102003Z
URL:https://business.glenviewchamber.com/events/details/heal-low-back-pain-and-sciatica-11044
END:VEVENT

END:VCALENDAR
