BEGIN:VCALENDAR
VERSION:2.0
PRODID:-//ChamberMaster//Event Calendar 2.0//EN
METHOD:PUBLISH
X-PUBLISHED-TTL:P3D
REFRESH-INTERVAL:P3D
CALSCALE:GREGORIAN
BEGIN:VEVENT
DTSTART:20230817T170000Z
DTEND:20230817T180000Z
X-MICROSOFT-CDO-ALLDAYEVENT:FALSE
SUMMARY:Healing Shoulder Pain Naturally
DESCRIPTION:This workshop is for you if you have trouble sleeping on your arm\, you have difficulty reaching overhead\, opening doors or putting on your seatbelt\, you are unable to participate in your usual exercise of choice such as tennis\, yoga\, pickleball or weightlifting.
X-ALT-DESC;FMTTYPE=text/html:This workshop is for you if you have trouble sleeping on your arm\, you have difficulty reaching overhead\, opening doors or putting on your seatbelt\, you are unable to participate in your usual exercise of choice such as tennis\, yoga\, pickleball or weightlifting.
LOCATION:Online
UID:e.434.10762
SEQUENCE:3
DTSTAMP:20260421T030237Z
URL:https://business.glenviewchamber.com/events/details/healing-shoulder-pain-naturally-10762
END:VEVENT

END:VCALENDAR
