BEGIN:VCALENDAR
VERSION:2.0
PRODID:-//ChamberMaster//Event Calendar 2.0//EN
METHOD:PUBLISH
X-PUBLISHED-TTL:P3D
REFRESH-INTERVAL:P3D
CALSCALE:GREGORIAN
BEGIN:VEVENT
DTSTART:20190515T223000Z
DTEND:20190516T000000Z
X-MICROSOFT-CDO-ALLDAYEVENT:FALSE
SUMMARY:Health & Wellness and Senior Group Networking After Hours
DESCRIPTION:Gather for refreshments at Colonial Dental co-hosted with Always Best Care. Charmaine of Always Best Care has developed a folder that serves as a guide for family and loved ones with all the pertinent information that is needed as we age.  It handles everything from listing your healthcare providers\, to updating a medication list to where is your safety deposit key along with forms that are easy to fill out for the "5 Wishes".
X-ALT-DESC;FMTTYPE=text/html:<span style="color:#1F497D\;"><span style="font-family:calibri\,sans-serif\;"><span style="font-size:11.0pt\;">Gather for refreshments at Colonial Dental co-hosted with Always Best Care. Charmaine of Always Best Care has developed a folder that serves as a guide for family and loved ones with all the pertinent information that is needed as we age.&nbsp\; It handles everything from listing your healthcare providers\, to updating a medication list to where is your safety deposit key along with forms that are easy to fill out for the &ldquo\;5 Wishes&rdquo\;.&nbsp\;&nbsp\;</span></span></span>
LOCATION:Colonial Dental co-hosted with Always Best Care 1775 Glenview Road #107 Glenview\, IL 60025 847-729-2233
UID:e.434.10117
SEQUENCE:3
DTSTAMP:20260426T001339Z
URL:https://business.glenviewchamber.com/events/details/health-wellness-and-senior-group-networking-after-hours-10117
END:VEVENT

END:VCALENDAR
