BEGIN:VCALENDAR
VERSION:2.0
PRODID:-//ChamberMaster//Event Calendar 2.0//EN
METHOD:PUBLISH
X-PUBLISHED-TTL:P3D
REFRESH-INTERVAL:P3D
CALSCALE:GREGORIAN
BEGIN:VEVENT
DTSTART:20190918T130000Z
DTEND:20190918T140000Z
X-MICROSOFT-CDO-ALLDAYEVENT:FALSE
SUMMARY:Health & Wellness and Senior Group Networking Breakfast
DESCRIPTION:Join the Health & Wellness and Senior Groups for networking and breakfast at Sweet Ali's Gluten Free Bakery!
X-ALT-DESC;FMTTYPE=text/html:<span style="font-family: &quot\;times new roman&quot\;\, serif\; font-size: 16px\;">Join the Health &amp\; Wellness and Senior Groups for networking and breakfast at Sweet Ali&#39\;s Gluten Free Bakery!</span>
LOCATION:Sweet Ali's Gluten Free Bakery 1107 Waukegan Road Glenview\, IL
UID:e.434.10072
SEQUENCE:3
DTSTAMP:20260425T123350Z
URL:https://business.glenviewchamber.com/events/details/health-wellness-and-senior-group-networking-breakfast-10072
END:VEVENT

END:VCALENDAR
