BEGIN:VCALENDAR
VERSION:2.0
PRODID:-//ChamberMaster//Event Calendar 2.0//EN
METHOD:PUBLISH
X-PUBLISHED-TTL:P3D
REFRESH-INTERVAL:P3D
CALSCALE:GREGORIAN
BEGIN:VEVENT
DTSTART:20260623T170000Z
DTEND:20260623T180000Z
X-MICROSOFT-CDO-ALLDAYEVENT:FALSE
SUMMARY:Health & Wellness Group Event
DESCRIPTION:Join the Health & Wellness Group for a lunch & learn event with B.yond Physical Therapy and Alzheimer's Association. We will be learning about supporting brain health in our community and have opportunities to network with other health & wellness business leaders.
X-ALT-DESC;FMTTYPE=text/html:Join the Health &amp\; Wellness Group for a lunch &amp\; learn event with B.yond Physical Therapy and Alzheimer&#39\;s Association. We will be learning about supporting brain health in our community and have opportunities to network with other health &amp\; wellness business leaders.
LOCATION:495 Central Ave.\, Northfield\, IL 60093 Inside Elite Wellness North Shore
UID:e.434.11700
SEQUENCE:3
DTSTAMP:20260422T162952Z
URL:https://business.glenviewchamber.com/events/details/health-wellness-group-event-11700
END:VEVENT

END:VCALENDAR
