BEGIN:VCALENDAR
VERSION:2.0
PRODID:-//ChamberMaster//Event Calendar 2.0//EN
METHOD:PUBLISH
X-PUBLISHED-TTL:P3D
REFRESH-INTERVAL:P3D
CALSCALE:GREGORIAN
BEGIN:VEVENT
DTSTART:20230720T160000Z
DTEND:20230720T170000Z
X-MICROSOFT-CDO-ALLDAYEVENT:FALSE
SUMMARY:Healthy Aging From Your Head to Your Toes
DESCRIPTION:A geriatrician will discuss how to preserve and improve health\, maintain independence and focus on quality of life as you age.
X-ALT-DESC;FMTTYPE=text/html:A geriatrician will discuss how to preserve and improve health\, maintain independence and focus on quality of life as you age.
LOCATION:Online Event
UID:e.434.10757
SEQUENCE:3
DTSTAMP:20260420T230038Z
URL:https://business.glenviewchamber.com/events/details/healthy-aging-from-your-head-to-your-toes-10757
END:VEVENT

END:VCALENDAR
