BEGIN:VCALENDAR
VERSION:2.0
PRODID:-//ChamberMaster//Event Calendar 2.0//EN
METHOD:PUBLISH
X-PUBLISHED-TTL:P3D
REFRESH-INTERVAL:P3D
CALSCALE:GREGORIAN
BEGIN:VEVENT
DTSTART:20240511T120000Z
DTEND:20240511T140000Z
X-MICROSOFT-CDO-ALLDAYEVENT:FALSE
SUMMARY:Healthy Kids Day 5K Walk/Run
DESCRIPTION:In-Person Registration: 7:00 am - 7:30 am. Race Check-in: 7:00 am. Race Starts at 8:00 am! Bring your Friends. Bring your Pets. Bring the Fun!
X-ALT-DESC;FMTTYPE=text/html:In-Person Registration: 7:00 am - 7:30 am. Race Check-in: 7:00 am. Race Starts at 8:00 am! Bring your Friends. Bring your Pets. Bring the Fun!
LOCATION:North Suburban YMCA 2705 Techny Rd. Northbrook. IL 60062
UID:e.434.10922
SEQUENCE:3
DTSTAMP:20260420T112633Z
URL:https://business.glenviewchamber.com/events/details/healthy-kids-day-5k-walk-run-10922
END:VEVENT

END:VCALENDAR
