BEGIN:VCALENDAR
VERSION:2.0
PRODID:-//ChamberMaster//Event Calendar 2.0//EN
METHOD:PUBLISH
X-PUBLISHED-TTL:P3D
REFRESH-INTERVAL:P3D
CALSCALE:GREGORIAN
BEGIN:VEVENT
DTSTART:20201012T170000Z
DTEND:20201012T180000Z
X-MICROSOFT-CDO-ALLDAYEVENT:FALSE
SUMMARY:Heathcare & Senior Group
DESCRIPTION:Connect and network with our Healthcare and Senior Services groups within the Chamber. Each member will be able to introduce themselves and their business and we will share a contact list after the event.
X-ALT-DESC;FMTTYPE=text/html:Connect and network with our Healthcare and Senior Services groups within the Chamber. Each member will be able to introduce themselves and their business and we will share a contact list after the event.&nbsp\;
LOCATION:Via zoom\, a link will be sent prior to the event.
UID:e.434.10468
SEQUENCE:3
DTSTAMP:20260422T195617Z
URL:https://business.glenviewchamber.com/events/details/heathcare-senior-group-10468
END:VEVENT

END:VCALENDAR
