BEGIN:VCALENDAR
VERSION:2.0
PRODID:-//ChamberMaster//Event Calendar 2.0//EN
METHOD:PUBLISH
X-PUBLISHED-TTL:P3D
REFRESH-INTERVAL:P3D
CALSCALE:GREGORIAN
BEGIN:VEVENT
DTSTART:20211201T230000Z
DTEND:20211202T020000Z
X-MICROSOFT-CDO-ALLDAYEVENT:FALSE
SUMMARY:Holiday Bites\, Brews & Shopping
DESCRIPTION:Splurge on a Tasty Tradition\n\nWe are holding our ninth annual craft beer and local food festival on Wednesday\, December 1\, from 5-8pm in The Glen Club ballroom. We are adding a vendor shopping area this year to change it up. This event showcases the best of Glenview's food\, beer\, and wine\, and local vendors selling clothing\, accessories\, jewelry and more! Every year friends and neighbors unabashedly treat themselves to evening of conversation\, and dozens of tastes of every type: sweet\, succulent\, piquant\, fizzy\, fiery\, cheesy\, chewy\, and tangy. Sample a huge variety of beers from Sketchbook\, Alarmist\, Stunt and Tangled Roots\, heart-warming wines\, and the best food in the region from very different kitchens.\n\n\n\nTickets are $25 for Chamber Members and $35 for non-members and at the door.   \n\n\n\nAs a community event organized by the Chamber\, Bites & Brews is supported by sponsors\, Wintrust (Glenview and Northview Bank and Trust)\, Avidor Glenview and Joseph Mullarkey Distributors.  Food provided by amazing Glenview Chamber member restaurants\, caterers\, wine merchants and craft beer purveyors. Local vendors will be selling clothing\, accessories\, jewelry and more!
X-ALT-DESC;FMTTYPE=text/html:<p><span style="color:#000000\;"><span style="font-size:12px\;"><span style="font-family:verdana\;">Splurge on a Tasty Tradition</span></span></span></p>\n\n<p><span style="color:#000000\;"><span style="font-size:12px\;"><span style="font-family:verdana\;"><span style="white-space: pre-wrap\;">We are holding our ninth annual craft beer and local food festival on </span><span style="white-space: pre-wrap\; font-weight: bold\;">Wednesday\, December 1\, from 5-8pm in The Glen Club ballroom</span><span style="white-space: pre-wrap\;">. We are adding a vendor shopping area this year to change it up. This event showcases the best of Glenview&rsquo\;s food\, beer\, and wine\, and local vendors selling clothing\, accessories\, jewelry and more! </span>Every year friends and neighbors unabashedly treat themselves to evening of conversation\, and dozens of tastes of every type: sweet\, succulent\, piquant\, fizzy\, fiery\, cheesy\, chewy\, and tangy. Sample a huge variety of beers from Sketchbook\, Alarmist\, Stunt and Tangled Roots\, heart-warming wines\, and the best food in the region from very different kitchens.</span></span></span><br />\n<br />\n<span style="color:#000000\;"><span style="font-size:12px\;"><span style="font-family:verdana\;">Tickets are $25 for Chamber Members and $35 for non-members and at the door.&nbsp\; &nbsp\;<br />\n<br />\nAs a community event organized by the Chamber\, Bites &amp\; Brews is supported by sponsors\, <strong>Wintrust (Glenview and Northview Bank and Trust)\, Avidor Glenview and Joseph Mullarkey Distributors</strong>.&nbsp\; Food provided by amazing Glenview Chamber member restaurants\, caterers\, wine merchants and craft beer purveyors. Local vendors will be selling clothing\, accessories\, jewelry and more!</span></span></span></p>\n
LOCATION:The Glen Club 2901 W. Lake Avenue Glenview
UID:e.434.10533
SEQUENCE:3
DTSTAMP:20260422T003546Z
URL:https://business.glenviewchamber.com/events/details/holiday-bites-brews-shopping-10533
END:VEVENT

END:VCALENDAR
