BEGIN:VCALENDAR
VERSION:2.0
PRODID:-//ChamberMaster//Event Calendar 2.0//EN
METHOD:PUBLISH
X-PUBLISHED-TTL:P3D
REFRESH-INTERVAL:P3D
CALSCALE:GREGORIAN
BEGIN:VEVENT
DTSTART:20221126T220000Z
DTEND:20221127T000000Z
X-MICROSOFT-CDO-ALLDAYEVENT:FALSE
SUMMARY:Holiday in the Park & Parade
DESCRIPTION:Join us as we kick-off the holiday season with our annual Holiday in the Park & Parade!  Follow the parade down Glenview Road from Our Lady of Perpetual Help Church going west to Jackman Park.  Festivities in the park include a visit with Santa\, hay rides\, a train ride for kids\, carolers\, cookies\, hot chocolate and popcorn while supplies last. Click here for application. Special thanks to GVTV for making this video from the 2017 parade: https://youtu.be/Y8OZ2joGG2g\n\nSponsors: Berkshire Hathaway Home Services\, Busey Bank\, Northern Seasonal Services\, NorthShore University Health Systems\n\n\n\nNote: If you are participating in the parade\, please report to the OLPH parking lot at 3:30 pm.
X-ALT-DESC;FMTTYPE=text/html:<p><span style="font-family:verdana\;"><span style="font-size:16px\;">Join us as we kick-off&nbsp\;the holiday season with our annual Holiday in the Park &amp\; Parade!&nbsp\; Follow the parade down Glenview Road from Our Lady of Perpetual Help Church going west to Jackman Park.&nbsp\; Festivities in the park include a visit with Santa\, hay rides\, a train ride for kids\, carolers\, cookies\, hot chocolate and popcorn while supplies last.&nbsp\;<span style="font-size:18px\;"><u><strong><a href="https://chambermaster.blob.core.windows.net/userfiles/UserFiles/chambers/434/File/application2022final.pdf">Click here </a></strong></u></span>for application. Special thanks to GVTV for making this video from the 2017 parade:&nbsp\;</span></span><a href="https://youtu.be/Y8OZ2joGG2g">https://youtu.be/Y8OZ2joGG2g</a></p>\n\n<p><span style="font-size:16px\;"><span style="font-family:verdana\;">Sponsors: Berkshire Hathaway Home Services\, Busey Bank\, Northern Seasonal Services\, NorthShore University Health Systems</span></span><br />\n<br />\n<span style="font-family: verdana"><span style="font-size: 16px"><strong>Note: If you are participating in the parade\, please report to the OLPH parking lot at 3:30 pm.</strong></span></span></p>\n
LOCATION:Jackman Park
UID:e.434.7754
SEQUENCE:3
DTSTAMP:20260420T133654Z
URL:https://business.glenviewchamber.com/events/details/holiday-in-the-park-parade-11-26-2022-7754
END:VEVENT

END:VCALENDAR
