BEGIN:VCALENDAR
VERSION:2.0
PRODID:-//ChamberMaster//Event Calendar 2.0//EN
METHOD:PUBLISH
X-PUBLISHED-TTL:P3D
REFRESH-INTERVAL:P3D
CALSCALE:GREGORIAN
BEGIN:VEVENT
DTSTART:20210727T233000Z
DTEND:20210728T003000Z
X-MICROSOFT-CDO-ALLDAYEVENT:FALSE
SUMMARY:How to Maximize the Impact of your Marketing Plan
DESCRIPTION:Join Us for a LIVE Webinar\n\n\n\nOne of the first mistakes a business can make is to try to sell its\n\nproduct to an audience (market) that is too large. Businesses that are\n\nmost successful in their early stages of development are those that\n\nhave a clear value proposition directed at a select group of customers.\n\nBusinesses that have been around for a while also benefit a great deal\n\nfrom determining who their best customers are and what segments\n\nthey belong to\, so as to better serve them.\n\n\n\nIn this webinar\, we teach how to identify the best target markets for\n\nyour product/service\, and how to leverage that information to maximize\n\nyour sales and profit potential.\n\nRegister here: https://score.tfaforms.net/17?EventID=a105a000006v1iT
X-ALT-DESC;FMTTYPE=text/html:<p>Join Us for a LIVE Webinar<br />\n<br />\nOne of the first mistakes a business can make is to try to sell its<br />\nproduct to an audience (market) that is too large. Businesses that are<br />\nmost successful in their early stages of development are those that<br />\nhave a clear value proposition directed at a select group of customers.<br />\nBusinesses that have been around for a while also benefit a great deal<br />\nfrom determining who their best customers are and what segments<br />\nthey belong to\, so as to better serve them.<br />\n<br />\nIn this webinar\, we teach how to identify the best target markets for<br />\nyour product/service\, and how to leverage that information to maximize<br />\nyour sales and profit potential.<br />\nRegister here:&nbsp\;https://score.tfaforms.net/17?EventID=a105a000006v1iT</p>\n
LOCATION:
UID:e.434.10563
SEQUENCE:3
DTSTAMP:20260422T092922Z
URL:https://business.glenviewchamber.com/events/details/how-to-maximize-the-impact-of-your-marketing-plan-10563
END:VEVENT

END:VCALENDAR
