BEGIN:VCALENDAR
VERSION:2.0
PRODID:-//ChamberMaster//Event Calendar 2.0//EN
METHOD:PUBLISH
X-PUBLISHED-TTL:P3D
REFRESH-INTERVAL:P3D
CALSCALE:GREGORIAN
BEGIN:VEVENT
DTSTART:20220208T180000Z
DTEND:20220208T190000Z
X-MICROSOFT-CDO-ALLDAYEVENT:FALSE
SUMMARY:HR Legal Changes
DESCRIPTION:Hear from expert James Provenza of James C. Provenza & Associates\, PC about HR legal changes that could effect your business such as remote signing laws\, tax changes\, and Illinois changes.
X-ALT-DESC;FMTTYPE=text/html:<span style="background:white\;"><span style="color:#1F497D\;">Hear from expert James Provenza of James C. Provenza &amp\; Associates\, PC</span></span>&nbsp\;<span style="background:white\;"><span style="color:#1F497D\;"><span style="font-variant-ligatures:normal\;font-variant-caps:normal\;orphans:2\;widows:2\;-webkit-text-stroke-width:0px\;text-decoration-thickness:initial\;text-decoration-style:initial\;word-spacing:0px\;">about HR legal changes that could effect your business such as remote signing laws\, tax changes\, and Illinois changes.</span></span></span><br />\n&nbsp\;
LOCATION:via zoom
UID:e.434.10584
SEQUENCE:3
DTSTAMP:20260421T212729Z
URL:https://business.glenviewchamber.com/events/details/hr-legal-changes-10584
END:VEVENT

END:VCALENDAR
