BEGIN:VCALENDAR
VERSION:2.0
PRODID:-//ChamberMaster//Event Calendar 2.0//EN
METHOD:PUBLISH
X-PUBLISHED-TTL:P3D
REFRESH-INTERVAL:P3D
CALSCALE:GREGORIAN
BEGIN:VEVENT
DTSTART:20201129T180000Z
DTEND:20201129T180000Z
X-MICROSOFT-CDO-ALLDAYEVENT:FALSE
SUMMARY:#ILoveLocal
DESCRIPTION:So your Chamber is doing everything we can to keep our celebratory hometown feel during this different holiday season. We've planned a range of safe events and opportunities and tagged them\, #ILoveLocal.\n\n \n\nWe've even created a contest around loving--technically\, liking--local. The Grand Prize? A $400 Abt gift card. Runner-up gets a $200 Abt gift card. Here's how to play. "Like" the Facebook pages and follow the Instagram pages of our local businesses\, and report your likes to the Chamber via email at info@glenviewchamber.com. We'll send you a coupon for every like. The more likes\, the more coupons. Fill out the coupons and drop them off at a drive-through window at Northview or Glenview Bank and Trust. Then... a little wait until November 13. The drawing is in December 14.\n\nHere's a list of businesses to like: https://business.glenviewchamber.com/list/
X-ALT-DESC;FMTTYPE=text/html:<div><span style="font-size: 12px\; color: rgb(66\, 66\, 66)\; font-family: Verdana\, Geneva\, sans-serif\;">So your Chamber is doing everything we can to keep our celebratory hometown feel during this different holiday season. We&#39\;ve planned a range of safe events and opportunities and tagged them\,&nbsp\;</span><span style="font-size: 12px\; color: rgb(66\, 66\, 66)\; font-family: Verdana\, Geneva\, sans-serif\; font-weight: bold\;">#ILoveLocal</span><span style="font-size: 12px\; color: rgb(66\, 66\, 66)\; font-family: Verdana\, Geneva\, sans-serif\;">.</span></div>\n\n<div>&nbsp\;</div>\n\n<div><span style="font-size: 12px\; color: rgb(66\, 66\, 66)\; font-family: Verdana\, Geneva\, sans-serif\;">We&#39\;ve even created a contest around loving--technically\, liking--local.&nbsp\;</span><span style="font-size: 12px\; color: rgb(66\, 66\, 66)\; font-family: Verdana\, Geneva\, sans-serif\; font-weight: bold\;">The Grand Prize? A $400 Abt gift card</span><span style="font-size: 12px\; color: rgb(66\, 66\, 66)\; font-family: Verdana\, Geneva\, sans-serif\;">. Runner-up gets a $200 Abt gift card. Here&#39\;s how to play. &quot\;Like&quot\; the Facebook pages and follow the Instagram pages of our local businesses\, and report your likes to the Chamber via email at&nbsp\;</span><a href="mailto:info@glenviewchamber.com" rel="noopener noreferrer" style="font-size: 12px\; color: rgb(66\, 66\, 66)\; font-family: Verdana\, Geneva\, sans-serif\;" target="_blank">info@glenviewchamber.com</a><span style="font-size: 12px\; color: rgb(66\, 66\, 66)\; font-family: Verdana\, Geneva\, sans-serif\;">. We&#39\;ll send you a coupon for every like. The more likes\, the more coupons. Fill out the coupons and drop them off at a drive-through window at&nbsp\;</span><span style="font-size: 12px\; color: rgb(66\, 66\, 66)\; font-family: Verdana\, Geneva\, sans-serif\; font-weight: bold\;">Northview or Glenview Bank and Trust</span><span style="font-size: 12px\; color: rgb(66\, 66\, 66)\; font-family: Verdana\, Geneva\, sans-serif\;">. Then... a little wait until November 13. The drawing is in December 14.</span></div>\n\n<div>Here&#39\;s a list of businesses to like:<a href="https://business.glenviewchamber.com/list/">&nbsp\;https://business.glenviewchamber.com/list/</a></div>\n
LOCATION:
UID:e.434.10497
SEQUENCE:3
DTSTAMP:20260422T235724Z
URL:https://business.glenviewchamber.com/events/details/ilovelocal-11-29-2020-10497
END:VEVENT

END:VCALENDAR
