BEGIN:VCALENDAR
VERSION:2.0
PRODID:-//ChamberMaster//Event Calendar 2.0//EN
METHOD:PUBLISH
X-PUBLISHED-TTL:P3D
REFRESH-INTERVAL:P3D
CALSCALE:GREGORIAN
BEGIN:VEVENT
DTSTART:20210609T223000Z
DTEND:20210610T000000Z
X-MICROSOFT-CDO-ALLDAYEVENT:FALSE
SUMMARY:IN PERSON Business After Hours
DESCRIPTION:Join us for an OUTDOOR IN PERSON Business After Hours event! We are so excited to see everyone\, hear about your businesses and how we can collaborate together! Wine and food will be served\, beer and other drinks are available for purchase. Tips for waitstaff are appreciated.\n\nAll funds collected go directly to the restaurant. YOU MUST REGISTER IN ADVANCE FOR THIS EVENT.\n\n \n\nAlso\, Yard House is offering carry-out dinner meals to pre-order in advance through their website. Order dinner in advance here: https://www.yardhouse.com/order-online\n\nA monthly gathering that helps forge new business relationships and renew existing bonds\, Business After Hours rotates among Member businesses and provides a relaxed\, casual atmosphere.  This event is an excellent opportunity to finish the business day in the company of fellow Members and grow your circle of contacts. Drop by to unwind and connect with your local business community.\n\n **This event is open only to Chamber members and prospective Chamber members.**
X-ALT-DESC;FMTTYPE=text/html:<div style="color: rgb(96\, 109\, 120)\; font-family: Helvetica\, Arial\, sans-serif\; font-size: 14px\; white-space: pre-wrap\;"><span style="color:#000000\;"><span style="font-family:tahoma\;">Join us for an OUTDOOR IN PERSON Business After Hours event! We are so excited to see everyone\, hear about your businesses and how we can collaborate together! <span style="font-weight: bold\; font-style: italic\;">Wine and food will be served\, beer and other drinks are available for purchase. Tips for waitstaff are appreciated.</span></span></span></div>\n\n<div style="color: rgb(96\, 109\, 120)\; font-family: Helvetica\, Arial\, sans-serif\; font-size: 14px\; white-space: pre-wrap\;"><span style="color:#000000\;"><span style="font-family:tahoma\;"><span style="font-weight: bold\; font-style: italic\;">All funds collected go directly to the restaurant. YOU MUST REGISTER IN ADVANCE FOR THIS EVENT.</span></span></span></div>\n\n<div style="color: rgb(96\, 109\, 120)\; font-family: Helvetica\, Arial\, sans-serif\; font-size: 14px\; white-space: pre-wrap\;">&nbsp\;</div>\n\n<div style="color: rgb(96\, 109\, 120)\; font-family: Helvetica\, Arial\, sans-serif\; font-size: 14px\; white-space: pre-wrap\;"><span style="font-family:tahoma\;"><span style="color:#000000\;">Also\, Yard House is offering carry-out dinner meals to pre-order in advance through their website. Order dinner in advance here: </span><a data-link-type="web" href="https://www.yardhouse.com/order-online" rel="noopener noreferrer" style="color: rgb(31\, 73\, 125)\; font-weight: bold\; font-size: 16px\; font-family: Calibri\, Helvetica\, Arial\, sans-serif\;" target="_blank"><span style="color:#000000\;">https://www.yardhouse.com/order-online</span></a></span></div>\n\n<p><span style="color:#000000\;"><span style="font-family:tahoma\;">A monthly gathering that helps forge new business relationships and renew existing bonds\, Business After Hours rotates among Member businesses and provides a relaxed\, casual atmosphere.&nbsp\; This event is an excellent opportunity to finish the business day in the company of fellow Members and grow your circle of contacts. Drop by to unwind and connect with your local business<span class="apple-converted-space">&nbsp\;</span>community.</span></span></p>\n\n<p><strong><span style="color:#000000\;"><span style="font-family:tahoma\;">&#8203\;**<span font-size:="" ms="" sans=""><span style="font-size: 10pt\;">This</span><span class="apple-converted-space"><span font-size:="" ms="" sans="">&nbsp\;</span>event is open only to Chamber members and prospective Chamber members.**</span></span></span></span></strong><span font-size:="" ms="" sans=""><o:p></o:p></span></p>\n
LOCATION:*********OUTSIDE EVENT********** Yard House 1880 Tower Drive
UID:e.434.7934
SEQUENCE:3
DTSTAMP:20260422T094513Z
URL:https://business.glenviewchamber.com/events/details/in-person-business-after-hours-06-09-2021-7934
END:VEVENT

END:VCALENDAR
